BEGIN:VCALENDAR
VERSION:2.0
PRODID:-//Ralph Sexton Ministries - ECPv6.15.13//NONSGML v1.0//EN
CALSCALE:GREGORIAN
METHOD:PUBLISH
X-WR-CALNAME:Ralph Sexton Ministries
X-ORIGINAL-URL:https://ralphsextonministries.com
X-WR-CALDESC:Events for Ralph Sexton Ministries
REFRESH-INTERVAL;VALUE=DURATION:PT1H
X-Robots-Tag:noindex
X-PUBLISHED-TTL:PT1H
BEGIN:VTIMEZONE
TZID:America/Halifax
BEGIN:DAYLIGHT
TZOFFSETFROM:-0400
TZOFFSETTO:-0300
TZNAME:ADT
DTSTART:20250309T060000
END:DAYLIGHT
BEGIN:STANDARD
TZOFFSETFROM:-0300
TZOFFSETTO:-0400
TZNAME:AST
DTSTART:20251102T050000
END:STANDARD
BEGIN:DAYLIGHT
TZOFFSETFROM:-0400
TZOFFSETTO:-0300
TZNAME:ADT
DTSTART:20260308T060000
END:DAYLIGHT
BEGIN:STANDARD
TZOFFSETFROM:-0300
TZOFFSETTO:-0400
TZNAME:AST
DTSTART:20261101T050000
END:STANDARD
BEGIN:DAYLIGHT
TZOFFSETFROM:-0400
TZOFFSETTO:-0300
TZNAME:ADT
DTSTART:20270314T060000
END:DAYLIGHT
BEGIN:STANDARD
TZOFFSETFROM:-0300
TZOFFSETTO:-0400
TZNAME:AST
DTSTART:20271107T050000
END:STANDARD
END:VTIMEZONE
BEGIN:VEVENT
DTSTART;TZID=America/Halifax:20260514T190000
DTEND;TZID=America/Halifax:20260514T210000
DTSTAMP:20260423T143150
CREATED:20260408T201752Z
LAST-MODIFIED:20260408T201752Z
UID:5399-1778785200-1778792400@ralphsextonministries.com
SUMMARY:Prayer Meeting in the Barn Piney Flats\, TN
DESCRIPTION:Prayer Meeting in the Barn Piney Flats\, TN \nMountain Crusade Tent Site \n4630 Bristol Hwy. Piney Flats\, TN 37686 \nService Times 7:00 PM
URL:https://ralphsextonministries.com/event/prayer-meeting-in-the-barn-piney-flats-tn-2/
LOCATION:Mountain Crusade Tent Site\, 4630 Bristol Highway\, Piney Flats\, TN\, 37686\, United States
CATEGORIES:Prayer,Prophecy Conference,Special Meeting
END:VEVENT
BEGIN:VEVENT
DTSTART;VALUE=DATE:20260517
DTEND;VALUE=DATE:20260518
DTSTAMP:20260423T143150
CREATED:20260408T204939Z
LAST-MODIFIED:20260408T204939Z
UID:5413-1778976000-1779062399@ralphsextonministries.com
SUMMARY:Central Baptist Church Mountain City\, TN
DESCRIPTION:Central Baptist Church Mountain City\, TN \nService times: 11:00 AM and 6:00 PM
URL:https://ralphsextonministries.com/event/central-baptist-church-mountain-city-tn/
LOCATION:Central Baptist – Mountain City\, TN\, 2430 S Shady Street\, Mountain City\, TN\, 37683\, United States
CATEGORIES:Church Service
END:VEVENT
BEGIN:VEVENT
DTSTART;TZID=America/Halifax:20260520T000000
DTEND;TZID=America/Halifax:20260601T235900
DTSTAMP:20260423T143150
CREATED:20260114T171312Z
LAST-MODIFIED:20260402T185131Z
UID:5316-1779235200-1780358340@ralphsextonministries.com
SUMMARY:Journeys of Paul - Summer 2026
DESCRIPTION:
URL:https://ralphsextonministries.com/event/journeys-of-paul-summer-2026/
LOCATION:TN
CATEGORIES:International Travel
END:VEVENT
END:VCALENDAR