BEGIN:VCALENDAR
VERSION:2.0
PRODID:-//Ralph Sexton Ministries - ECPv6.15.13//NONSGML v1.0//EN
CALSCALE:GREGORIAN
METHOD:PUBLISH
X-WR-CALNAME:Ralph Sexton Ministries
X-ORIGINAL-URL:https://ralphsextonministries.com
X-WR-CALDESC:Events for Ralph Sexton Ministries
REFRESH-INTERVAL;VALUE=DURATION:PT1H
X-Robots-Tag:noindex
X-PUBLISHED-TTL:PT1H
BEGIN:VTIMEZONE
TZID:America/Halifax
BEGIN:DAYLIGHT
TZOFFSETFROM:-0400
TZOFFSETTO:-0300
TZNAME:ADT
DTSTART:20230312T060000
END:DAYLIGHT
BEGIN:STANDARD
TZOFFSETFROM:-0300
TZOFFSETTO:-0400
TZNAME:AST
DTSTART:20231105T050000
END:STANDARD
BEGIN:DAYLIGHT
TZOFFSETFROM:-0400
TZOFFSETTO:-0300
TZNAME:ADT
DTSTART:20240310T060000
END:DAYLIGHT
BEGIN:STANDARD
TZOFFSETFROM:-0300
TZOFFSETTO:-0400
TZNAME:AST
DTSTART:20241103T050000
END:STANDARD
BEGIN:DAYLIGHT
TZOFFSETFROM:-0400
TZOFFSETTO:-0300
TZNAME:ADT
DTSTART:20250309T060000
END:DAYLIGHT
BEGIN:STANDARD
TZOFFSETFROM:-0300
TZOFFSETTO:-0400
TZNAME:AST
DTSTART:20251102T050000
END:STANDARD
END:VTIMEZONE
BEGIN:VEVENT
DTSTART;VALUE=DATE:20240505
DTEND;VALUE=DATE:20240506
DTSTAMP:20260424T214506
CREATED:20240505T145737Z
LAST-MODIFIED:20240505T145737Z
UID:4027-1714867200-1714953599@ralphsextonministries.com
SUMMARY:Sunday Services
DESCRIPTION:Central Baptist Church\nMountain City\, TN \n11:00 a.m. and 6:00 p.m.
URL:https://ralphsextonministries.com/event/sunday-services-4/
LOCATION:Central Baptist – Mountain City\, TN\, 2430 S Shady Street\, Mountain City\, TN\, 37683\, United States
CATEGORIES:Church Service
END:VEVENT
BEGIN:VEVENT
DTSTART;TZID=America/Halifax:20240506T183000
DTEND;TZID=America/Halifax:20240506T203000
DTSTAMP:20260424T214506
CREATED:20240505T150102Z
LAST-MODIFIED:20240505T150102Z
UID:4031-1715020200-1715027400@ralphsextonministries.com
SUMMARY:Come & See Tent Crusade
DESCRIPTION:Join us for the Come and See Tent Crusade in Neeses\, SC.
URL:https://ralphsextonministries.com/event/come-see-tent-crusade/
LOCATION:Come & See Tent Crusade\, 5468 Neeses Hwy\, Neeses\, SC\, 29107\, United States
CATEGORIES:Tent Meeting
END:VEVENT
BEGIN:VEVENT
DTSTART;TZID=America/Halifax:20240507T183000
DTEND;TZID=America/Halifax:20240507T203000
DTSTAMP:20260424T214506
CREATED:20240505T150203Z
LAST-MODIFIED:20240505T150216Z
UID:4035-1715106600-1715113800@ralphsextonministries.com
SUMMARY:Come & See Tent Crusade
DESCRIPTION:Join us for the Come & See Tent Crusade in Neeses\, SC. \n 
URL:https://ralphsextonministries.com/event/come-see-tent-crusade-2/
LOCATION:Come & See Tent Crusade\, 5468 Neeses Hwy\, Neeses\, SC\, 29107\, United States
CATEGORIES:Tent Meeting
END:VEVENT
BEGIN:VEVENT
DTSTART;VALUE=DATE:20240519
DTEND;VALUE=DATE:20240520
DTSTAMP:20260424T214506
CREATED:20240518T172101Z
LAST-MODIFIED:20240518T172426Z
UID:4039-1716076800-1716163199@ralphsextonministries.com
SUMMARY:Sunday Service
DESCRIPTION:Join us at Mt. Pleasant Baptist at Elkview\, WV with Pastor Lee Swor.
URL:https://ralphsextonministries.com/event/prophecy-revival-5/
LOCATION:Mt. Pleasant Baptist\, 58 Mt. Pleasant Drive\, Elkview\, WV
CATEGORIES:Church Service,Special Meeting
END:VEVENT
BEGIN:VEVENT
DTSTART;TZID=America/Halifax:20240531T190000
DTEND;TZID=America/Halifax:20240531T210000
DTSTAMP:20260424T214506
CREATED:20240518T173009Z
LAST-MODIFIED:20240518T173009Z
UID:4044-1717182000-1717189200@ralphsextonministries.com
SUMMARY:Revival Service
DESCRIPTION:Join us at Trinity Baptist in Indian Land\, SC with our friend Pastor Rick Cope for this special revival service.
URL:https://ralphsextonministries.com/event/revival-service-5/
LOCATION:Trinity Baptist – Indian Land\, SC\, 1519 Steel Hill Rd\, Lancaster\, SC\, 29720\, United States
CATEGORIES:Revivals
END:VEVENT
END:VCALENDAR