BEGIN:VCALENDAR
VERSION:2.0
PRODID:-//Ralph Sexton Ministries - ECPv6.15.13//NONSGML v1.0//EN
CALSCALE:GREGORIAN
METHOD:PUBLISH
X-ORIGINAL-URL:https://ralphsextonministries.com
X-WR-CALDESC:Events for Ralph Sexton Ministries
REFRESH-INTERVAL;VALUE=DURATION:PT1H
X-Robots-Tag:noindex
X-PUBLISHED-TTL:PT1H
BEGIN:VTIMEZONE
TZID:America/Halifax
BEGIN:DAYLIGHT
TZOFFSETFROM:-0400
TZOFFSETTO:-0300
TZNAME:ADT
DTSTART:20220313T060000
END:DAYLIGHT
BEGIN:STANDARD
TZOFFSETFROM:-0300
TZOFFSETTO:-0400
TZNAME:AST
DTSTART:20221106T050000
END:STANDARD
BEGIN:DAYLIGHT
TZOFFSETFROM:-0400
TZOFFSETTO:-0300
TZNAME:ADT
DTSTART:20230312T060000
END:DAYLIGHT
BEGIN:STANDARD
TZOFFSETFROM:-0300
TZOFFSETTO:-0400
TZNAME:AST
DTSTART:20231105T050000
END:STANDARD
BEGIN:DAYLIGHT
TZOFFSETFROM:-0400
TZOFFSETTO:-0300
TZNAME:ADT
DTSTART:20240310T060000
END:DAYLIGHT
BEGIN:STANDARD
TZOFFSETFROM:-0300
TZOFFSETTO:-0400
TZNAME:AST
DTSTART:20241103T050000
END:STANDARD
END:VTIMEZONE
BEGIN:VEVENT
DTSTART;TZID=America/Halifax:20231001T180000
DTEND;TZID=America/Halifax:20231001T200000
DTSTAMP:20260425T075934
CREATED:20230914T025438Z
LAST-MODIFIED:20230914T025438Z
UID:3577-1696183200-1696190400@ralphsextonministries.com
SUMMARY:Sunday Service
DESCRIPTION:Join Dr. Sexton with Pastor Keith Watkins at Pleasant Hill Baptist for their evening service.
URL:https://ralphsextonministries.com/event/sunday-service-6/
LOCATION:Pleasant Hill Baptist Church\, 754 Aiken Rd\, Asheville\, NC\, United States
END:VEVENT
BEGIN:VEVENT
DTSTART;TZID=America/Halifax:20231002T190000
DTEND;TZID=America/Halifax:20231002T210000
DTSTAMP:20260425T075934
CREATED:20230914T030839Z
LAST-MODIFIED:20230914T030839Z
UID:3581-1696273200-1696280400@ralphsextonministries.com
SUMMARY:Fall Revival
DESCRIPTION:What an honor to join our friends at Victory Baptist in North Augusta\, SC and Pastor CT Townsend for their fall revival.
URL:https://ralphsextonministries.com/event/fall-revival/
LOCATION:Victory Baptist – N. Augusta\, 620 W Martintown Road\, North Augusta\, SC\, 29841\, United States
CATEGORIES:Revivals,Special Meeting
END:VEVENT
BEGIN:VEVENT
DTSTART;TZID=America/Halifax:20231004T190000
DTEND;TZID=America/Halifax:20231004T210000
DTSTAMP:20260425T075934
CREATED:20230914T031218Z
LAST-MODIFIED:20230914T031218Z
UID:3587-1696446000-1696453200@ralphsextonministries.com
SUMMARY:Fall Revival
DESCRIPTION:Join us in North Augusta at Victory Baptist with our friend Pastor CT Townsend for a Fall Revival!
URL:https://ralphsextonministries.com/event/fall-revival-2/
LOCATION:Victory Baptist – N. Augusta\, 620 W Martintown Road\, North Augusta\, SC\, 29841\, United States
CATEGORIES:Revivals
END:VEVENT
BEGIN:VEVENT
DTSTART;TZID=America/Halifax:20231014T190000
DTEND;TZID=America/Halifax:20231014T210000
DTSTAMP:20260425T075934
CREATED:20230914T032550Z
LAST-MODIFIED:20230914T032600Z
UID:3592-1697310000-1697317200@ralphsextonministries.com
SUMMARY:Mission Point Jubilee
DESCRIPTION:What an honor it is to return to Jamestown\, TN and Mission Point Jubilee with Faith Baptist Tabernacle.
URL:https://ralphsextonministries.com/event/mission-point-jubilee-2/
LOCATION:Mission Point Jubilee\, 99 Mission Drive\, Jamestown\, TN\, 38556\, United States
CATEGORIES:Revivals,Special Meeting
END:VEVENT
BEGIN:VEVENT
DTSTART;TZID=America/Halifax:20231019T080000
DTEND;TZID=America/Halifax:20231019T170000
DTSTAMP:20260425T075934
CREATED:20230914T033152Z
LAST-MODIFIED:20230914T034601Z
UID:3599-1697702400-1697734800@ralphsextonministries.com
SUMMARY:Revival
DESCRIPTION:Looking forward to being at Carolina Baptist in Spartanburg\, SC
URL:https://ralphsextonministries.com/event/revival/
LOCATION:Carolina Baptist Chrch\, 256 Floyd Road\, Spartanburg\, SC\, United States
CATEGORIES:Revivals,Special Meeting
END:VEVENT
BEGIN:VEVENT
DTSTART;TZID=America/Halifax:20231021T180000
DTEND;TZID=America/Halifax:20231021T200000
DTSTAMP:20260425T075934
CREATED:20231014T170006Z
LAST-MODIFIED:20231014T170006Z
UID:3622-1697911200-1697918400@ralphsextonministries.com
SUMMARY:Prophecy Conference
DESCRIPTION:First Baptist Church in Hammond\, Indiana
URL:https://ralphsextonministries.com/event/prophecy-conference/
LOCATION:First Baptist Church\, Hammond\, IN\, 473 Sibley Street\, Hammond\, IN
CATEGORIES:Prophecy Conference
END:VEVENT
BEGIN:VEVENT
DTSTART;VALUE=DATE:20231022
DTEND;VALUE=DATE:20231025
DTSTAMP:20260425T075934
CREATED:20231014T170241Z
LAST-MODIFIED:20231014T170241Z
UID:3626-1697932800-1698191999@ralphsextonministries.com
SUMMARY:Prophecy Conference
DESCRIPTION:Join us for these special services of studying the Bible and prophecy. \nSATURDAY EVENING at 6:00 PM\nSUNDAY MORNING at 10:45 AM\nSUNDAY EVENING at 6:00 PM\nMONDAY EVENING at 7:00 PM\nTUESDAY EVENING at 7:00 PM
URL:https://ralphsextonministries.com/event/prophecy-conference-2/
LOCATION:First Baptist Church\, Hammond\, IN\, 473 Sibley Street\, Hammond\, IN
CATEGORIES:Prophecy Conference
END:VEVENT
BEGIN:VEVENT
DTSTART;TZID=America/Halifax:20231025T063000
DTEND;TZID=America/Halifax:20231025T223000
DTSTAMP:20260425T075934
CREATED:20231014T170457Z
LAST-MODIFIED:20231014T170531Z
UID:3629-1698215400-1698273000@ralphsextonministries.com
SUMMARY:A Night For Israel
DESCRIPTION:Join us for a Night for Israel on Wednesday October 25th in Asheville\, NC. The evening will begin with worship and prayer as we pray for Israel and seek comfort and direction from God’s Word. \nThe night will conclude with a nation wide effort to raise money for ambulances and medical equipment\, resupplying Israel’s Emergency Services (MDA) after the devastating terrorist attacks. \nThis is a National call for all Christians in America to come together\, hand in hand\, to stand united with the people of Israel. Share the news of this effort with your church\, Sunday school\, your Pastor\, your business\, your friends and family.
URL:https://ralphsextonministries.com/event/a-night-for-israel/
LOCATION:Trinity Baptist Church-AVL\, 216 Shelburne Road\, Asheville\, NC\, 28806\, United States
CATEGORIES:Special Meeting
END:VEVENT
END:VCALENDAR