BEGIN:VCALENDAR
VERSION:2.0
PRODID:-//Ralph Sexton Ministries - ECPv6.15.13//NONSGML v1.0//EN
CALSCALE:GREGORIAN
METHOD:PUBLISH
X-ORIGINAL-URL:https://ralphsextonministries.com
X-WR-CALDESC:Events for Ralph Sexton Ministries
REFRESH-INTERVAL;VALUE=DURATION:PT1H
X-Robots-Tag:noindex
X-PUBLISHED-TTL:PT1H
BEGIN:VTIMEZONE
TZID:UTC
BEGIN:STANDARD
TZOFFSETFROM:+0000
TZOFFSETTO:+0000
TZNAME:UTC
DTSTART:20220101T000000
END:STANDARD
END:VTIMEZONE
BEGIN:VEVENT
DTSTART;TZID=UTC:20230410T190000
DTEND;TZID=UTC:20230411T210000
DTSTAMP:20260425T170341
CREATED:20230402T193943Z
LAST-MODIFIED:20230402T194833Z
UID:3194-1681153200-1681246800@ralphsextonministries.com
SUMMARY:Clarendon County Crusade
DESCRIPTION:Join Dr. Sexton in Summerton\, SC under the Gospel Tent as the Clarendon County Crusade begins.
URL:https://ralphsextonministries.com/event/clarendon-county-crusade/
LOCATION:401 Bluff Blvd Summerton\, SC\, 401 Bluff Blvd\, Summerton\, SC
CATEGORIES:Tent Meeting
END:VEVENT
BEGIN:VEVENT
DTSTART;TZID=UTC:20230414T190000
DTEND;TZID=UTC:20230414T210000
DTSTAMP:20260425T170341
CREATED:20230402T194245Z
LAST-MODIFIED:20230414T071114Z
UID:3200-1681498800-1681506000@ralphsextonministries.com
SUMMARY:Revival Service
DESCRIPTION:Join Dr. Sexton for special services at Oakland Avenue Baptist with Pastor Roy Yelton.
URL:https://ralphsextonministries.com/event/revival-service/
LOCATION:Oakland Avenue Baptist Church\, 2823 E Oakland Ave\, Johnson City\, TN\, 37601\, United States
END:VEVENT
BEGIN:VEVENT
DTSTART;TZID=UTC:20230416T190000
DTEND;TZID=UTC:20230416T210000
DTSTAMP:20260425T170341
CREATED:20230402T194707Z
LAST-MODIFIED:20230414T224706Z
UID:3203-1681671600-1681678800@ralphsextonministries.com
SUMMARY:Revival Service
DESCRIPTION:Looking forward to being at Mt. Pleasant Baptist in Elkview\, WV\, with Pastor Lee Swor.
URL:https://ralphsextonministries.com/event/special-service/
LOCATION:Mt. Pleasant Baptist\, 58 Mt. Pleasant Drive\, Elkview\, WV
CATEGORIES:Church Service,Revivals,Special Meeting
END:VEVENT
BEGIN:VEVENT
DTSTART;TZID=UTC:20230417T190000
DTEND;TZID=UTC:20230417T210000
DTSTAMP:20260425T170341
CREATED:20230414T224858Z
LAST-MODIFIED:20230415T034321Z
UID:3244-1681758000-1681765200@ralphsextonministries.com
SUMMARY:Revival Service
DESCRIPTION:Looking forward to being at Mt. Pleasant Baptist in Elkview\, WV\, with Pastor Lee Swor.
URL:https://ralphsextonministries.com/event/revival-service-3/
LOCATION:Mt. Pleasant Baptist\, 58 Mt. Pleasant Drive\, Elkview\, WV
CATEGORIES:Church Service,Revivals
END:VEVENT
BEGIN:VEVENT
DTSTART;VALUE=DATE:20230418
DTEND;VALUE=DATE:20230421
DTSTAMP:20260425T170341
CREATED:20230402T195122Z
LAST-MODIFIED:20230414T071249Z
UID:3209-1681776000-1682035199@ralphsextonministries.com
SUMMARY:Revival Service
DESCRIPTION:Join us in Hinton\, WV at Bellepoint Baptist with Pastor Gary Trout. Services begin at 7 p.m.
URL:https://ralphsextonministries.com/event/revival-service-2/
LOCATION:Bellepoint Baptist Church\, 211 Miller Avenue\, Hinton\, West Virginia
END:VEVENT
BEGIN:VEVENT
DTSTART;VALUE=DATE:20230423
DTEND;VALUE=DATE:20230424
DTSTAMP:20260425T170341
CREATED:20230402T195326Z
LAST-MODIFIED:20230402T195326Z
UID:3213-1682208000-1682294399@ralphsextonministries.com
SUMMARY:Sunday Service
DESCRIPTION:Join us in Lexington\, NC with Pastor Mike McDaniel.
URL:https://ralphsextonministries.com/event/sunday-service/
LOCATION:Currytown Baptist Church\, 7740 N North Carolina Hwy 150\, Lexington\, NC\, 27295\, United States
END:VEVENT
BEGIN:VEVENT
DTSTART;TZID=UTC:20230428T100000
DTEND;TZID=UTC:20230428T120000
DTSTAMP:20260425T170341
CREATED:20230402T195620Z
LAST-MODIFIED:20230402T195620Z
UID:3216-1682676000-1682683200@ralphsextonministries.com
SUMMARY:Singing in the Sun
DESCRIPTION:Join us in beautiful Myrtle Beach\, SC for Singing in the Sun.
URL:https://ralphsextonministries.com/event/singing-in-the-sun/
LOCATION:Myrtle Beach Convention Center\, 2101 N. Oak Street\, Myrtle Beach\, SC
CATEGORIES:Conference,Special Meeting
END:VEVENT
END:VCALENDAR