BEGIN:VCALENDAR
VERSION:2.0
PRODID:-//Ralph Sexton Ministries - ECPv6.15.13//NONSGML v1.0//EN
CALSCALE:GREGORIAN
METHOD:PUBLISH
X-ORIGINAL-URL:https://ralphsextonministries.com
X-WR-CALDESC:Events for Ralph Sexton Ministries
REFRESH-INTERVAL;VALUE=DURATION:PT1H
X-Robots-Tag:noindex
X-PUBLISHED-TTL:PT1H
BEGIN:VTIMEZONE
TZID:UTC
BEGIN:STANDARD
TZOFFSETFROM:+0000
TZOFFSETTO:+0000
TZNAME:UTC
DTSTART:20220101T000000
END:STANDARD
END:VTIMEZONE
BEGIN:VEVENT
DTSTART;TZID=UTC:20230202T080000
DTEND;TZID=UTC:20230202T170000
DTSTAMP:20260425T200135
CREATED:20230203T015653Z
LAST-MODIFIED:20230203T015653Z
UID:3103-1675324800-1675357200@ralphsextonministries.com
SUMMARY:Faithful Men's Conference
DESCRIPTION:Help us pray for the Faithful Men’s Conference at The Crown College in Powell\, TN.
URL:https://ralphsextonministries.com/event/faithful-mens-conference/
LOCATION:TN
CATEGORIES:Conference
END:VEVENT
BEGIN:VEVENT
DTSTART;TZID=UTC:20230204T180000
DTEND;TZID=UTC:20230204T200000
DTSTAMP:20260425T200135
CREATED:20230108T074324Z
LAST-MODIFIED:20230113T205341Z
UID:3067-1675533600-1675540800@ralphsextonministries.com
SUMMARY:Faithful Men's Banquet
DESCRIPTION:
URL:https://ralphsextonministries.com/event/faithful-mens-banquet/
LOCATION:Temple Baptist Church Powell\, TN\, 1700 W Beaver Creek Dr\, Powell\, TN\, 37849
CATEGORIES:Special Meeting
END:VEVENT
BEGIN:VEVENT
DTSTART;TZID=UTC:20230205T090000
DTEND;TZID=UTC:20230205T120000
DTSTAMP:20260425T200135
CREATED:20230203T015220Z
LAST-MODIFIED:20230203T015220Z
UID:3100-1675587600-1675598400@ralphsextonministries.com
SUMMARY:Antioch Baptist Church
DESCRIPTION:Join us for Sunday morning service in Lancaster\, SC for the 9:00 a.m. and 11:00 a.m. services with Pastor Trent McLaughlin.
URL:https://ralphsextonministries.com/event/antioch-baptist-church/
LOCATION:TN
CATEGORIES:Church Service
END:VEVENT
BEGIN:VEVENT
DTSTART;TZID=UTC:20230207T190000
DTEND;TZID=UTC:20230207T200000
DTSTAMP:20260425T200135
CREATED:20230203T020745Z
LAST-MODIFIED:20230203T020840Z
UID:3111-1675796400-1675800000@ralphsextonministries.com
SUMMARY:Antioch Baptist Church
DESCRIPTION:
URL:https://ralphsextonministries.com/event/antioch-baptist-church-2/
LOCATION:Antioch Baptist Church\, 190 Salem Dr.\, Bristol\, 24201\, United States
CATEGORIES:Revivals,Special Meeting
END:VEVENT
BEGIN:VEVENT
DTSTART;VALUE=DATE:20230208
DTEND;VALUE=DATE:20230211
DTSTAMP:20260425T200135
CREATED:20230108T074647Z
LAST-MODIFIED:20230203T014750Z
UID:3071-1675814400-1676073599@ralphsextonministries.com
SUMMARY:Power Conference
DESCRIPTION:Join us at Trinity Baptist for 4 days of fellowship\, preaching\, and prayer! \nServices will be held at 10:00 a.m. and 6:30 p.m. daily.
URL:https://ralphsextonministries.com/event/power-conference/
LOCATION:Trinity Baptist Church-AVL\, 216 Shelburne Road\, Asheville\, NC\, 28806\, United States
CATEGORIES:Conference
END:VEVENT
BEGIN:VEVENT
DTSTART;VALUE=DATE:20230212
DTEND;VALUE=DATE:20230213
DTSTAMP:20260425T200135
CREATED:20230203T021305Z
LAST-MODIFIED:20230203T021305Z
UID:3117-1676160000-1676246399@ralphsextonministries.com
SUMMARY:Westside Baptist Church
DESCRIPTION:Join us with our friends at Westside Baptist and Pastor Alton T. Midgett\, Jr. for Sunday morning and evening services.
URL:https://ralphsextonministries.com/event/westside-baptist-church/
LOCATION:Westside Baptist Church\, 762 Smokey Rd\, Newnan\, Georgia\, 30263
CATEGORIES:Church Service
END:VEVENT
BEGIN:VEVENT
DTSTART;TZID=UTC:20230215T100000
DTEND;TZID=UTC:20230215T100000
DTSTAMP:20260425T200135
CREATED:20230203T021529Z
LAST-MODIFIED:20230212T080023Z
UID:3121-1676455200-1676455200@ralphsextonministries.com
SUMMARY:Heritage Keepers - TBC
DESCRIPTION:Trinity Baptist Church\nPastor Winston Parrish \n216 Shelburne Road\nAsheville\, NC 28806 \nService at 10:00 AM\nLunch at 12:00 PM
URL:https://ralphsextonministries.com/event/heritage-keepers-bible-study/
LOCATION:Trinity Baptist Church-AVL\, 216 Shelburne Road\, Asheville\, NC\, 28806\, United States
CATEGORIES:Weekly Bible Study
END:VEVENT
BEGIN:VEVENT
DTSTART;VALUE=DATE:20230217
DTEND;VALUE=DATE:20230220
DTSTAMP:20260425T200135
CREATED:20230203T022221Z
LAST-MODIFIED:20230212T075954Z
UID:3128-1676592000-1676851199@ralphsextonministries.com
SUMMARY:Linwood Baptist Church
DESCRIPTION:Linwood Baptist Church\nPastor Jon Alverson \n18 North Steele Street\nLaFayette\, GA 30728 \nFebruary 17-18 – 7:00 PM nightly\nFebruary 19 – 11:00 AM
URL:https://ralphsextonministries.com/event/linwood-baptist-church-2/
LOCATION:Linwood Baptist Church\, 18 N. Steele Street\, LaFayette\, GA\, 30728\, United States
CATEGORIES:Church Service,Revivals
END:VEVENT
BEGIN:VEVENT
DTSTART;VALUE=DATE:20230219
DTEND;VALUE=DATE:20230222
DTSTAMP:20260425T200135
CREATED:20230212T075030Z
LAST-MODIFIED:20230212T075030Z
UID:3135-1676764800-1677023999@ralphsextonministries.com
SUMMARY:Northside Baptist Church
DESCRIPTION:Northside Baptist Church\nPastor Shad Smith \n120 Northside Church Road\nDallas\, GA 30132 \nFebruary 19 – 6:00 PM\nFebruary 20-21 – 7:00 PM nightly
URL:https://ralphsextonministries.com/event/northside-baptist-church/
LOCATION:Northside Baptist Church\, 120 Northside Church Road\, Dallas\, GA\, 30132\, United States
CATEGORIES:Church Service,Prophecy Conference,Revivals
END:VEVENT
BEGIN:VEVENT
DTSTART;TZID=UTC:20230222T100000
DTEND;TZID=UTC:20230222T100000
DTSTAMP:20260425T200135
CREATED:20230212T075224Z
LAST-MODIFIED:20230212T075616Z
UID:3139-1677060000-1677060000@ralphsextonministries.com
SUMMARY:Heritage Keepers - TBC
DESCRIPTION:Trinity Baptist Church\nPastor Winston Parrish \n216 Shelburne Road\nAsheville\, NC 28806 \nService at 10:00 AM\nLunch at 12:00 PM
URL:https://ralphsextonministries.com/event/heritage-keepers-bible-study-2/
LOCATION:Trinity Baptist Church-AVL\, 216 Shelburne Road\, Asheville\, NC\, 28806\, United States
END:VEVENT
BEGIN:VEVENT
DTSTART;VALUE=DATE:20230226
DTEND;VALUE=DATE:20230227
DTSTAMP:20260425T200135
CREATED:20230212T075518Z
LAST-MODIFIED:20230212T075518Z
UID:3142-1677369600-1677455999@ralphsextonministries.com
SUMMARY:Clear Springs Baptist Church
DESCRIPTION:Clear Springs Baptist Church\nPastor Justin Pratt \n7350 Tazewell Pike\nCorryton\, TN 37721 \nServices: 10:15 AM and 6:00 PM
URL:https://ralphsextonministries.com/event/clear-springs-baptist-church/
LOCATION:Clear Springs Baptist Church\, 7350 Tazewell Pike\, Corryton\, TN\, 3721\, United States
CATEGORIES:Church Service,Revivals
END:VEVENT
END:VCALENDAR