BEGIN:VCALENDAR
VERSION:2.0
PRODID:-//Ralph Sexton Ministries - ECPv6.15.13//NONSGML v1.0//EN
CALSCALE:GREGORIAN
METHOD:PUBLISH
X-WR-CALNAME:Ralph Sexton Ministries
X-ORIGINAL-URL:https://ralphsextonministries.com
X-WR-CALDESC:Events for Ralph Sexton Ministries
REFRESH-INTERVAL;VALUE=DURATION:PT1H
X-Robots-Tag:noindex
X-PUBLISHED-TTL:PT1H
BEGIN:VTIMEZONE
TZID:UTC
BEGIN:STANDARD
TZOFFSETFROM:+0000
TZOFFSETTO:+0000
TZNAME:UTC
DTSTART:20210101T000000
END:STANDARD
END:VTIMEZONE
BEGIN:VEVENT
DTSTART;VALUE=DATE:20221107
DTEND;VALUE=DATE:20221109
DTSTAMP:20260426T000331
CREATED:20220902T042058Z
LAST-MODIFIED:20221006T225009Z
UID:2849-1667779200-1667951999@ralphsextonministries.com
SUMMARY:A Prayer For America - Midterms 2022
DESCRIPTION:Join us on the Ralph Sexton Ministries website\, YouTube channel\, and Facebook Page for a special report LIVE from Washington\, DC.
URL:https://ralphsextonministries.com/event/a-prayer-for-america-midterms-2022/
LOCATION:TN
END:VEVENT
BEGIN:VEVENT
DTSTART;VALUE=DATE:20221113
DTEND;VALUE=DATE:20221116
DTSTAMP:20260426T000331
CREATED:20220902T042329Z
LAST-MODIFIED:20221006T225207Z
UID:2852-1668297600-1668556799@ralphsextonministries.com
SUMMARY:Seagate Baptist Church
DESCRIPTION:Seagate Baptist Church\nPastor Glenn Wiggins \n1010 Whippoorwill Lane\nNaples\, FL 34105
URL:https://ralphsextonministries.com/event/seagate-baptist-church/
LOCATION:Seagate Baptist Church\, 1010 Whippoorwill Ln\,\, Naples\, FL\, 34105\, United States
CATEGORIES:Revivals
END:VEVENT
BEGIN:VEVENT
DTSTART;VALUE=DATE:20221130
DTEND;VALUE=DATE:20221210
DTSTAMP:20260426T000331
CREATED:20220902T042534Z
LAST-MODIFIED:20221006T225329Z
UID:2856-1669766400-1670630399@ralphsextonministries.com
SUMMARY:57th Holy Land Tour
DESCRIPTION:
URL:https://ralphsextonministries.com/event/57th-holy-land-tour/
LOCATION:Israel\, Israel
CATEGORIES:International Travel
END:VEVENT
END:VCALENDAR