BEGIN:VCALENDAR
VERSION:2.0
PRODID:-//Ralph Sexton Ministries - ECPv6.15.13//NONSGML v1.0//EN
CALSCALE:GREGORIAN
METHOD:PUBLISH
X-WR-CALNAME:Ralph Sexton Ministries
X-ORIGINAL-URL:https://ralphsextonministries.com
X-WR-CALDESC:Events for Ralph Sexton Ministries
REFRESH-INTERVAL;VALUE=DURATION:PT1H
X-Robots-Tag:noindex
X-PUBLISHED-TTL:PT1H
BEGIN:VTIMEZONE
TZID:UTC
BEGIN:STANDARD
TZOFFSETFROM:+0000
TZOFFSETTO:+0000
TZNAME:UTC
DTSTART:20210101T000000
END:STANDARD
END:VTIMEZONE
BEGIN:VEVENT
DTSTART;TZID=UTC:20221002T103000
DTEND;TZID=UTC:20221002T120000
DTSTAMP:20260426T013340
CREATED:20220930T233858Z
LAST-MODIFIED:20220930T233858Z
UID:2904-1664706600-1664712000@ralphsextonministries.com
SUMMARY:Homecoming - Trinity Baptist Asheville
DESCRIPTION:Join us as we celebrate Trinity’s 56th Homecoming!
URL:https://ralphsextonministries.com/event/homecoming-trinity-baptist-asheville/
LOCATION:Trinity Baptist Church-AVL\, 216 Shelburne Road\, Asheville\, NC\, 28806\, United States
CATEGORIES:Church Service
END:VEVENT
BEGIN:VEVENT
DTSTART;VALUE=DATE:20221004
DTEND;VALUE=DATE:20221005
DTSTAMP:20260426T013340
CREATED:20220902T024705Z
LAST-MODIFIED:20220902T024705Z
UID:2822-1664841600-1664927999@ralphsextonministries.com
SUMMARY:Victory Baptist Church - Jubilee - Pastor Von Ramsey
DESCRIPTION:Victory Baptist Church Jubilee\, Denver\, NC – Von Ramsey
URL:https://ralphsextonministries.com/event/victory-baptist-church-jubilee-pastor-von-ramsey/
LOCATION:Victory Baptist Church – Denver\, NC\, 6041 King Wilkinson Rd\, Denver\, FL\, 28037\, United States
END:VEVENT
BEGIN:VEVENT
DTSTART;TZID=UTC:20221010T190000
DTEND;TZID=UTC:20221010T190000
DTSTAMP:20260426T013340
CREATED:20220902T033017Z
LAST-MODIFIED:20221006T225042Z
UID:2841-1665428400-1665428400@ralphsextonministries.com
SUMMARY:New Heights Baptist Church
DESCRIPTION:New Heights Baptist Church\nPastor Terry Lawson \n2796 NC-14\nReidsville\, NC 27320
URL:https://ralphsextonministries.com/event/new-heights-baptist-church/
LOCATION:TN
CATEGORIES:Church Service
END:VEVENT
BEGIN:VEVENT
DTSTART;TZID=UTC:20221012T100000
DTEND;TZID=UTC:20221012T100000
DTSTAMP:20260426T013340
CREATED:20221006T222636Z
LAST-MODIFIED:20230212T075556Z
UID:2940-1665568800-1665568800@ralphsextonministries.com
SUMMARY:Heritage Keepers - TBC
DESCRIPTION:Trinity Baptist Church\nPastor Winston Parrish \n216 Shelburne Road\nAsheville\, NC 28806 \nService at 10:00 AM\nLunch at 12:00 PM
URL:https://ralphsextonministries.com/event/heritage-keepers-2/
LOCATION:Trinity Baptist Church-AVL\, 216 Shelburne Road\, Asheville\, NC\, 28806\, United States
CATEGORIES:Weekly Bible Study
END:VEVENT
BEGIN:VEVENT
DTSTART;TZID=UTC:20221012T190000
DTEND;TZID=UTC:20221012T190000
DTSTAMP:20260426T013340
CREATED:20221006T223224Z
LAST-MODIFIED:20221006T223224Z
UID:2946-1665601200-1665601200@ralphsextonministries.com
SUMMARY:Pond Fork Baptist Church
DESCRIPTION:Pond Fork Baptist Church\nPastor Johnny Knight \n2615 Pond Fork Church Road\nPendergrass\, GA 30567
URL:https://ralphsextonministries.com/event/pond-fork-baptist-church/
LOCATION:TN
CATEGORIES:Revivals
END:VEVENT
BEGIN:VEVENT
DTSTART;TZID=UTC:20221014T190000
DTEND;TZID=UTC:20221014T190000
DTSTAMP:20260426T013340
CREATED:20220902T041756Z
LAST-MODIFIED:20221006T225024Z
UID:2846-1665774000-1665774000@ralphsextonministries.com
SUMMARY:Mission Point Jubilee
DESCRIPTION:Mission Point Jubilee\nPastor Joshua Grubbs \n627 South Main Street\nJamestown\, TN 38556 \nFellowship at 6:00 PM\nService at 7:00 PM
URL:https://ralphsextonministries.com/event/mission-point-jubilee/
LOCATION:TN
CATEGORIES:Revivals
END:VEVENT
BEGIN:VEVENT
DTSTART;TZID=UTC:20221016T103000
DTEND;TZID=UTC:20221016T103000
DTSTAMP:20260426T013340
CREATED:20221006T223555Z
LAST-MODIFIED:20221006T223651Z
UID:2954-1665916200-1665916200@ralphsextonministries.com
SUMMARY:"Hearts With Hands" Sunday - TBC
DESCRIPTION:Trinity Baptist Church\nPastor Winston Parrish \n216 Shelburne Road\nAsheville\, NC 28806
URL:https://ralphsextonministries.com/event/hearts-with-hands-sunday-tbc/
LOCATION:TN
CATEGORIES:Church Service
END:VEVENT
BEGIN:VEVENT
DTSTART;TZID=UTC:20221016T180000
DTEND;TZID=UTC:20221019T180000
DTSTAMP:20260426T013340
CREATED:20221006T224040Z
LAST-MODIFIED:20221006T224139Z
UID:2961-1665943200-1666202400@ralphsextonministries.com
SUMMARY:Scott's Creek Baptist Church
DESCRIPTION:Scott’s Creek Baptist Church\nPastor JD Grant \n97 Steeple Road\nSylva\, NC 28779
URL:https://ralphsextonministries.com/event/scotts-creek-baptist-church/
LOCATION:TN
CATEGORIES:Revivals
END:VEVENT
BEGIN:VEVENT
DTSTART;VALUE=DATE:20221023
DTEND;VALUE=DATE:20221024
DTSTAMP:20260426T013340
CREATED:20221006T224348Z
LAST-MODIFIED:20221006T224348Z
UID:2964-1666483200-1666569599@ralphsextonministries.com
SUMMARY:Community Baptist Church
DESCRIPTION:Community Baptist Church\nPastor Mark Agan \n2575 Hamp Stone Road\nSiler City\, NC 27344 \nServices at 9:30 AM and 11:00 AM
URL:https://ralphsextonministries.com/event/community-baptist-church/
LOCATION:TN
CATEGORIES:Revivals
END:VEVENT
END:VCALENDAR