BEGIN:VCALENDAR
VERSION:2.0
PRODID:-//Ralph Sexton Ministries - ECPv6.15.13//NONSGML v1.0//EN
CALSCALE:GREGORIAN
METHOD:PUBLISH
X-WR-CALNAME:Ralph Sexton Ministries
X-ORIGINAL-URL:https://ralphsextonministries.com
X-WR-CALDESC:Events for Ralph Sexton Ministries
REFRESH-INTERVAL;VALUE=DURATION:PT1H
X-Robots-Tag:noindex
X-PUBLISHED-TTL:PT1H
BEGIN:VTIMEZONE
TZID:America/Halifax
BEGIN:DAYLIGHT
TZOFFSETFROM:-0400
TZOFFSETTO:-0300
TZNAME:ADT
DTSTART:20240310T060000
END:DAYLIGHT
BEGIN:STANDARD
TZOFFSETFROM:-0300
TZOFFSETTO:-0400
TZNAME:AST
DTSTART:20241103T050000
END:STANDARD
BEGIN:DAYLIGHT
TZOFFSETFROM:-0400
TZOFFSETTO:-0300
TZNAME:ADT
DTSTART:20250309T060000
END:DAYLIGHT
BEGIN:STANDARD
TZOFFSETFROM:-0300
TZOFFSETTO:-0400
TZNAME:AST
DTSTART:20251102T050000
END:STANDARD
BEGIN:DAYLIGHT
TZOFFSETFROM:-0400
TZOFFSETTO:-0300
TZNAME:ADT
DTSTART:20260308T060000
END:DAYLIGHT
BEGIN:STANDARD
TZOFFSETFROM:-0300
TZOFFSETTO:-0400
TZNAME:AST
DTSTART:20261101T050000
END:STANDARD
END:VTIMEZONE
BEGIN:VTIMEZONE
TZID:America/New_York
BEGIN:DAYLIGHT
TZOFFSETFROM:-0500
TZOFFSETTO:-0400
TZNAME:EDT
DTSTART:20240310T070000
END:DAYLIGHT
BEGIN:STANDARD
TZOFFSETFROM:-0400
TZOFFSETTO:-0500
TZNAME:EST
DTSTART:20241103T060000
END:STANDARD
BEGIN:DAYLIGHT
TZOFFSETFROM:-0500
TZOFFSETTO:-0400
TZNAME:EDT
DTSTART:20250309T070000
END:DAYLIGHT
BEGIN:STANDARD
TZOFFSETFROM:-0400
TZOFFSETTO:-0500
TZNAME:EST
DTSTART:20251102T060000
END:STANDARD
BEGIN:DAYLIGHT
TZOFFSETFROM:-0500
TZOFFSETTO:-0400
TZNAME:EDT
DTSTART:20260308T070000
END:DAYLIGHT
BEGIN:STANDARD
TZOFFSETFROM:-0400
TZOFFSETTO:-0500
TZNAME:EST
DTSTART:20261101T060000
END:STANDARD
END:VTIMEZONE
BEGIN:VEVENT
DTSTART;VALUE=DATE:20250921
DTEND;VALUE=DATE:20250922
DTSTAMP:20260423T205419
CREATED:20250904T194704Z
LAST-MODIFIED:20250904T194704Z
UID:5168-1758412800-1758499199@ralphsextonministries.com
SUMMARY:Riverside Baptist Church
DESCRIPTION:AM Service
URL:https://ralphsextonministries.com/event/riverside-baptist-church/
LOCATION:Riverside Baptist Church\, 871 Riverside Dr\, Asheville\, NC\, 28804\, United States
CATEGORIES:Church Service,Revivals
END:VEVENT
BEGIN:VEVENT
DTSTART;TZID=America/New_York:20250917T100000
DTEND;TZID=America/New_York:20250917T120000
DTSTAMP:20260423T205419
CREATED:20250717T173547Z
LAST-MODIFIED:20250717T173547Z
UID:5007-1758103200-1758110400@ralphsextonministries.com
SUMMARY:Heritage Keepers
DESCRIPTION:
URL:https://ralphsextonministries.com/event/heritage-keepers-32/
LOCATION:Trinity Baptist Church-AVL\, 216 Shelburne Road\, Asheville\, NC\, 28806\, United States
CATEGORIES:Weekly Bible Study
END:VEVENT
BEGIN:VEVENT
DTSTART;VALUE=DATE:20250914
DTEND;VALUE=DATE:20250915
DTSTAMP:20260423T205419
CREATED:20250904T194540Z
LAST-MODIFIED:20250904T194540Z
UID:5164-1757808000-1757894399@ralphsextonministries.com
SUMMARY:Fletcher First Baptist Church
DESCRIPTION:AM Service
URL:https://ralphsextonministries.com/event/fletcher-first-baptist-church/
LOCATION:Fletcher First Baptist Church\, 5 Cane Creek Rd\, Fletcher\, NC\, 28732\, United States
CATEGORIES:Church Service,Revivals
END:VEVENT
BEGIN:VEVENT
DTSTART;TZID=America/Halifax:20250911T190000
DTEND;TZID=America/Halifax:20250911T210000
DTSTAMP:20260423T205419
CREATED:20250717T174224Z
LAST-MODIFIED:20250717T174224Z
UID:5044-1757617200-1757624400@ralphsextonministries.com
SUMMARY:Prayer Meeting in the Barn
DESCRIPTION:Join us for a powerful evening of prayer\, worship\, and fellowship at our monthly Prayer Meeting in the Barn!
URL:https://ralphsextonministries.com/event/prayer-meeting-in-the-barn-3/
LOCATION:Mountain Crusade Tent Site\, 4630 Bristol Highway\, Piney Flats\, TN\, 37686\, United States
CATEGORIES:Prayer
END:VEVENT
BEGIN:VEVENT
DTSTART;TZID=America/New_York:20250910T100000
DTEND;TZID=America/New_York:20250910T120000
DTSTAMP:20260423T205419
CREATED:20250717T173527Z
LAST-MODIFIED:20250717T173527Z
UID:5004-1757498400-1757505600@ralphsextonministries.com
SUMMARY:Heritage Keepers
DESCRIPTION:
URL:https://ralphsextonministries.com/event/heritage-keepers-31/
LOCATION:Trinity Baptist Church-AVL\, 216 Shelburne Road\, Asheville\, NC\, 28806\, United States
CATEGORIES:Weekly Bible Study
END:VEVENT
BEGIN:VEVENT
DTSTART;VALUE=DATE:20250907
DTEND;VALUE=DATE:20250908
DTSTAMP:20260423T205419
CREATED:20250904T194325Z
LAST-MODIFIED:20250904T194325Z
UID:5160-1757203200-1757289599@ralphsextonministries.com
SUMMARY:Clearview Baptist Church
DESCRIPTION:AM & PM Services
URL:https://ralphsextonministries.com/event/clearview-baptist-church/
LOCATION:Clearview Baptist Church\, 5611 State Park Rd\, Travelers Rest\, SC\, 29690\, United States
CATEGORIES:Revivals
END:VEVENT
BEGIN:VEVENT
DTSTART;TZID=America/New_York:20250903T100000
DTEND;TZID=America/New_York:20250903T120000
DTSTAMP:20260423T205419
CREATED:20250717T173433Z
LAST-MODIFIED:20250717T173433Z
UID:5001-1756893600-1756900800@ralphsextonministries.com
SUMMARY:Heritage Keepers
DESCRIPTION:
URL:https://ralphsextonministries.com/event/heritage-keepers-30/
LOCATION:Trinity Baptist Church-AVL\, 216 Shelburne Road\, Asheville\, NC\, 28806\, United States
CATEGORIES:Weekly Bible Study
END:VEVENT
BEGIN:VEVENT
DTSTART;TZID=America/New_York:20250827T100000
DTEND;TZID=America/New_York:20250827T120000
DTSTAMP:20260423T205419
CREATED:20250717T173346Z
LAST-MODIFIED:20250717T173346Z
UID:4998-1756288800-1756296000@ralphsextonministries.com
SUMMARY:Heritage Keepers
DESCRIPTION:
URL:https://ralphsextonministries.com/event/heritage-keepers-29/
LOCATION:Trinity Baptist Church-AVL\, 216 Shelburne Road\, Asheville\, NC\, 28806\, United States
CATEGORIES:Weekly Bible Study
END:VEVENT
BEGIN:VEVENT
DTSTART;TZID=America/New_York:20250820T100000
DTEND;TZID=America/New_York:20250820T120000
DTSTAMP:20260423T205419
CREATED:20250717T173334Z
LAST-MODIFIED:20250717T173334Z
UID:4995-1755684000-1755691200@ralphsextonministries.com
SUMMARY:Heritage Keepers
DESCRIPTION:
URL:https://ralphsextonministries.com/event/heritage-keepers-28/
LOCATION:Trinity Baptist Church-AVL\, 216 Shelburne Road\, Asheville\, NC\, 28806\, United States
CATEGORIES:Weekly Bible Study
END:VEVENT
BEGIN:VEVENT
DTSTART;VALUE=DATE:20250820
DTEND;VALUE=DATE:20250823
DTSTAMP:20260423T205419
CREATED:20250717T175255Z
LAST-MODIFIED:20250717T175255Z
UID:5068-1755648000-1755907199@ralphsextonministries.com
SUMMARY:Lebanon Baptist Church
DESCRIPTION:
URL:https://ralphsextonministries.com/event/lebanon-baptist-church/
LOCATION:Lebanon Baptist Church – Bostic\, NC\, Bostic\, NC\, United States
CATEGORIES:Revivals
END:VEVENT
BEGIN:VEVENT
DTSTART;VALUE=DATE:20250817
DTEND;VALUE=DATE:20250819
DTSTAMP:20260423T205419
CREATED:20250717T175150Z
LAST-MODIFIED:20250717T175150Z
UID:5065-1755388800-1755561599@ralphsextonministries.com
SUMMARY:Zion Baptist Church
DESCRIPTION:
URL:https://ralphsextonministries.com/event/zion-baptist-church/
LOCATION:Zion Baptist Church – Elizabethton\, 1982 Gap Creek Road\, Elizabethton\, TN\, United States
CATEGORIES:Revivals
END:VEVENT
BEGIN:VEVENT
DTSTART;TZID=America/New_York:20250813T100000
DTEND;TZID=America/New_York:20250813T120000
DTSTAMP:20260423T205419
CREATED:20250717T173321Z
LAST-MODIFIED:20250717T173321Z
UID:4992-1755079200-1755086400@ralphsextonministries.com
SUMMARY:Heritage Keepers
DESCRIPTION:
URL:https://ralphsextonministries.com/event/heritage-keepers-27/
LOCATION:Trinity Baptist Church-AVL\, 216 Shelburne Road\, Asheville\, NC\, 28806\, United States
CATEGORIES:Weekly Bible Study
END:VEVENT
BEGIN:VEVENT
DTSTART;TZID=America/Halifax:20250807T190000
DTEND;TZID=America/Halifax:20250807T210000
DTSTAMP:20260423T205419
CREATED:20250709T175142Z
LAST-MODIFIED:20250709T175142Z
UID:4960-1754593200-1754600400@ralphsextonministries.com
SUMMARY:Prayer Meeting in the Barn
DESCRIPTION:Join us for a powerful evening of prayer\, worship\, and fellowship at our monthly Prayer Meeting in the Barn!
URL:https://ralphsextonministries.com/event/prayer-meeting-in-the-barn-2/
LOCATION:Mountain Crusade Tent Site\, 4630 Bristol Highway\, Piney Flats\, TN\, 37686\, United States
CATEGORIES:Prayer
END:VEVENT
BEGIN:VEVENT
DTSTART;TZID=America/New_York:20250806T100000
DTEND;TZID=America/New_York:20250806T120000
DTSTAMP:20260423T205419
CREATED:20250717T173244Z
LAST-MODIFIED:20250717T173244Z
UID:4990-1754474400-1754481600@ralphsextonministries.com
SUMMARY:Heritage Keepers
DESCRIPTION:
URL:https://ralphsextonministries.com/event/heritage-keepers-26/
LOCATION:Trinity Baptist Church-AVL\, 216 Shelburne Road\, Asheville\, NC\, 28806\, United States
CATEGORIES:Weekly Bible Study
END:VEVENT
BEGIN:VEVENT
DTSTART;VALUE=DATE:20250803
DTEND;VALUE=DATE:20250804
DTSTAMP:20260423T205419
CREATED:20250717T175016Z
LAST-MODIFIED:20250717T175016Z
UID:5061-1754179200-1754265599@ralphsextonministries.com
SUMMARY:Turning Point Baptist Church
DESCRIPTION:11 AM and 6 PM
URL:https://ralphsextonministries.com/event/turning-point-baptist-church/
LOCATION:Turning Point Baptist Church\, Winder\, GA\, United States
CATEGORIES:Church Service
END:VEVENT
BEGIN:VEVENT
DTSTART;VALUE=DATE:20250731
DTEND;VALUE=DATE:20250801
DTSTAMP:20260423T205419
CREATED:20250717T174806Z
LAST-MODIFIED:20250717T174806Z
UID:5057-1753920000-1754006399@ralphsextonministries.com
SUMMARY:Victory Baptist Church
DESCRIPTION:
URL:https://ralphsextonministries.com/event/victory-baptist-church/
LOCATION:Victory Baptist Church – Valdosta\, GA\, Valdosta\, GA\, United States
CATEGORIES:Church Service
END:VEVENT
BEGIN:VEVENT
DTSTART;TZID=America/New_York:20250730T100000
DTEND;TZID=America/New_York:20250730T120000
DTSTAMP:20260423T205419
CREATED:20250717T173159Z
LAST-MODIFIED:20250717T173159Z
UID:4987-1753869600-1753876800@ralphsextonministries.com
SUMMARY:Heritage Keepers
DESCRIPTION:
URL:https://ralphsextonministries.com/event/heritage-keepers-25/
LOCATION:Trinity Baptist Church-AVL\, 216 Shelburne Road\, Asheville\, NC\, 28806\, United States
CATEGORIES:Weekly Bible Study
END:VEVENT
BEGIN:VEVENT
DTSTART;VALUE=DATE:20250723
DTEND;VALUE=DATE:20250728
DTSTAMP:20260423T205419
CREATED:20250717T174649Z
LAST-MODIFIED:20250717T174649Z
UID:5054-1753228800-1753660799@ralphsextonministries.com
SUMMARY:Land of the Sky Jubilee
DESCRIPTION:
URL:https://ralphsextonministries.com/event/land-of-the-sky-jubilee-2/
LOCATION:Trinity Baptist Church-AVL\, 216 Shelburne Road\, Asheville\, NC\, 28806\, United States
CATEGORIES:Revivals
END:VEVENT
BEGIN:VEVENT
DTSTART;TZID=America/Halifax:20250720T180000
DTEND;TZID=America/Halifax:20250720T190000
DTSTAMP:20260423T205419
CREATED:20250717T174603Z
LAST-MODIFIED:20250717T174603Z
UID:5051-1753034400-1753038000@ralphsextonministries.com
SUMMARY:Temple Baptist Church
DESCRIPTION:
URL:https://ralphsextonministries.com/event/temple-baptist-church/
LOCATION:Temple Baptist – Mt. Airy\, 3615 Rockford Street\, Mt Airy\, NC\, 27030\, United States
CATEGORIES:Church Service
END:VEVENT
BEGIN:VEVENT
DTSTART;TZID=America/Halifax:20250720T110000
DTEND;TZID=America/Halifax:20250720T120000
DTSTAMP:20260423T205419
CREATED:20250717T174510Z
LAST-MODIFIED:20250717T174510Z
UID:5047-1753009200-1753012800@ralphsextonministries.com
SUMMARY:Emmanuel Baptist Church
DESCRIPTION:
URL:https://ralphsextonministries.com/event/emmanuel-baptist-church/
LOCATION:Emmanuel Baptist Church\, Lansing\, NC\, United States
CATEGORIES:Church Service
END:VEVENT
BEGIN:VEVENT
DTSTART;VALUE=DATE:20250717
DTEND;VALUE=DATE:20250718
DTSTAMP:20260423T205419
CREATED:20250709T175402Z
LAST-MODIFIED:20250709T175402Z
UID:4963-1752710400-1752796799@ralphsextonministries.com
SUMMARY:Arise Youth Conference
DESCRIPTION:
URL:https://ralphsextonministries.com/event/arise-youth-conference-3/
LOCATION:LeConte Center\, 2986 Teaster Lane\, Pigeon Forge\, TN\, 37863\, United States
CATEGORIES:Conference
END:VEVENT
BEGIN:VEVENT
DTSTART;TZID=America/Halifax:20250629T110000
DTEND;TZID=America/Halifax:20250629T190000
DTSTAMP:20260423T205419
CREATED:20250521T131758Z
LAST-MODIFIED:20250521T131758Z
UID:4803-1751194800-1751223600@ralphsextonministries.com
SUMMARY:Central Baptist Church
DESCRIPTION:Pastor Rick Thomason \n11:00 AM and 6:00 PM Services
URL:https://ralphsextonministries.com/event/central-baptist-church/
LOCATION:Central Baptist – Mountain City\, TN\, 2430 S Shady Street\, Mountain City\, TN\, 37683\, United States
CATEGORIES:Church Service
END:VEVENT
BEGIN:VEVENT
DTSTART;TZID=America/Halifax:20250625T190000
DTEND;TZID=America/Halifax:20250625T200000
DTSTAMP:20260423T205419
CREATED:20250521T131659Z
LAST-MODIFIED:20250521T131659Z
UID:4799-1750878000-1750881600@ralphsextonministries.com
SUMMARY:East Texas Camp Meeting
DESCRIPTION:Pastor Dennis Erwin
URL:https://ralphsextonministries.com/event/east-texas-camp-meeting/
LOCATION:East Texas Camp Meeting\, Canton\, TX\, United States
CATEGORIES:Camp Meeting
END:VEVENT
BEGIN:VEVENT
DTSTART;VALUE=DATE:20250623
DTEND;VALUE=DATE:20250625
DTSTAMP:20260423T205419
CREATED:20250521T131537Z
LAST-MODIFIED:20250521T131537Z
UID:4796-1750636800-1750809599@ralphsextonministries.com
SUMMARY:Back to Bethel Camp Meeting
DESCRIPTION:Pastor Kyle Gulledge \n7:00 PM Nightly
URL:https://ralphsextonministries.com/event/back-to-bethel-camp-meeting-3/
LOCATION:Red River Valley Bible Camp\, 1500 Bible Camp Rd\, TX\, United States
CATEGORIES:Camp Meeting
END:VEVENT
BEGIN:VEVENT
DTSTART;VALUE=DATE:20250622
DTEND;VALUE=DATE:20250623
DTSTAMP:20260423T205419
CREATED:20250521T131243Z
LAST-MODIFIED:20250521T131243Z
UID:4790-1750550400-1750636799@ralphsextonministries.com
SUMMARY:His Peace Fellowship
DESCRIPTION:Evening Service \nPastor Mike Fortenberry
URL:https://ralphsextonministries.com/event/his-peace-fellowship/
LOCATION:His Peace Fellowship\, Paris\, TX\, United States
END:VEVENT
BEGIN:VEVENT
DTSTART;VALUE=DATE:20250622
DTEND;VALUE=DATE:20250623
DTSTAMP:20260423T205419
CREATED:20250521T131122Z
LAST-MODIFIED:20250521T131122Z
UID:4786-1750550400-1750636799@ralphsextonministries.com
SUMMARY:Maxey Baptist Church
DESCRIPTION:Morning Service \nPastor Wade White
URL:https://ralphsextonministries.com/event/maxey-baptist-church/
LOCATION:Maxey Baptist Church\, Paris\, TX\, United States
CATEGORIES:Church Service
END:VEVENT
BEGIN:VEVENT
DTSTART;TZID=America/Halifax:20250619T190000
DTEND;TZID=America/Halifax:20250619T210000
DTSTAMP:20260423T205419
CREATED:20250604T153003Z
LAST-MODIFIED:20250604T153112Z
UID:4864-1750359600-1750366800@ralphsextonministries.com
SUMMARY:Prayer Meeting in the Barn
DESCRIPTION:Join us for a powerful evening of prayer\, worship\, and fellowship at our monthly Prayer Meeting in the Barn!
URL:https://ralphsextonministries.com/event/prayer-meeting-in-the-barn/
LOCATION:Mountain Crusade Tent Site\, 4630 Bristol Highway\, Piney Flats\, TN\, 37686\, United States
CATEGORIES:Prayer
END:VEVENT
BEGIN:VEVENT
DTSTART;TZID=America/New_York:20250618T100000
DTEND;TZID=America/New_York:20250618T120000
DTSTAMP:20260423T205419
CREATED:20250521T130745Z
LAST-MODIFIED:20250521T130745Z
UID:4779-1750240800-1750248000@ralphsextonministries.com
SUMMARY:Heritage Keepers
DESCRIPTION:
URL:https://ralphsextonministries.com/event/heritage-keepers-24/
LOCATION:Trinity Baptist Church-AVL\, 216 Shelburne Road\, Asheville\, NC\, 28806\, United States
CATEGORIES:Weekly Bible Study
END:VEVENT
BEGIN:VEVENT
DTSTART;VALUE=DATE:20250605
DTEND;VALUE=DATE:20250617
DTSTAMP:20260423T205419
CREATED:20250521T130936Z
LAST-MODIFIED:20250521T130936Z
UID:4782-1749081600-1750118399@ralphsextonministries.com
SUMMARY:2025 Journeys of Paul Tour
DESCRIPTION:
URL:https://ralphsextonministries.com/event/2025-journeys-of-paul-tour/
LOCATION:Celebrity Cruises’ Infinity\, Athens\, Greece
CATEGORIES:International Travel
END:VEVENT
BEGIN:VEVENT
DTSTART;TZID=America/New_York:20250604T100000
DTEND;TZID=America/New_York:20250604T120000
DTSTAMP:20260423T205419
CREATED:20250521T130723Z
LAST-MODIFIED:20250521T130723Z
UID:4776-1749031200-1749038400@ralphsextonministries.com
SUMMARY:Heritage Keepers
DESCRIPTION:
URL:https://ralphsextonministries.com/event/heritage-keepers-23/
LOCATION:Trinity Baptist Church-AVL\, 216 Shelburne Road\, Asheville\, NC\, 28806\, United States
CATEGORIES:Weekly Bible Study
END:VEVENT
END:VCALENDAR