BEGIN:VCALENDAR
VERSION:2.0
PRODID:-//Ralph Sexton Ministries - ECPv6.15.13//NONSGML v1.0//EN
CALSCALE:GREGORIAN
METHOD:PUBLISH
X-WR-CALNAME:Ralph Sexton Ministries
X-ORIGINAL-URL:https://ralphsextonministries.com
X-WR-CALDESC:Events for Ralph Sexton Ministries
REFRESH-INTERVAL;VALUE=DURATION:PT1H
X-Robots-Tag:noindex
X-PUBLISHED-TTL:PT1H
BEGIN:VTIMEZONE
TZID:America/New_York
BEGIN:DAYLIGHT
TZOFFSETFROM:-0500
TZOFFSETTO:-0400
TZNAME:EDT
DTSTART:20240310T070000
END:DAYLIGHT
BEGIN:STANDARD
TZOFFSETFROM:-0400
TZOFFSETTO:-0500
TZNAME:EST
DTSTART:20241103T060000
END:STANDARD
BEGIN:DAYLIGHT
TZOFFSETFROM:-0500
TZOFFSETTO:-0400
TZNAME:EDT
DTSTART:20250309T070000
END:DAYLIGHT
BEGIN:STANDARD
TZOFFSETFROM:-0400
TZOFFSETTO:-0500
TZNAME:EST
DTSTART:20251102T060000
END:STANDARD
BEGIN:DAYLIGHT
TZOFFSETFROM:-0500
TZOFFSETTO:-0400
TZNAME:EDT
DTSTART:20260308T070000
END:DAYLIGHT
BEGIN:STANDARD
TZOFFSETFROM:-0400
TZOFFSETTO:-0500
TZNAME:EST
DTSTART:20261101T060000
END:STANDARD
END:VTIMEZONE
BEGIN:VTIMEZONE
TZID:America/Halifax
BEGIN:DAYLIGHT
TZOFFSETFROM:-0400
TZOFFSETTO:-0300
TZNAME:ADT
DTSTART:20240310T060000
END:DAYLIGHT
BEGIN:STANDARD
TZOFFSETFROM:-0300
TZOFFSETTO:-0400
TZNAME:AST
DTSTART:20241103T050000
END:STANDARD
BEGIN:DAYLIGHT
TZOFFSETFROM:-0400
TZOFFSETTO:-0300
TZNAME:ADT
DTSTART:20250309T060000
END:DAYLIGHT
BEGIN:STANDARD
TZOFFSETFROM:-0300
TZOFFSETTO:-0400
TZNAME:AST
DTSTART:20251102T050000
END:STANDARD
BEGIN:DAYLIGHT
TZOFFSETFROM:-0400
TZOFFSETTO:-0300
TZNAME:ADT
DTSTART:20260308T060000
END:DAYLIGHT
BEGIN:STANDARD
TZOFFSETFROM:-0300
TZOFFSETTO:-0400
TZNAME:AST
DTSTART:20261101T050000
END:STANDARD
END:VTIMEZONE
BEGIN:VEVENT
DTSTART;TZID=America/New_York:20251112T100000
DTEND;TZID=America/New_York:20251112T120000
DTSTAMP:20260423T203219
CREATED:20250717T173813Z
LAST-MODIFIED:20250717T173813Z
UID:5031-1762941600-1762948800@ralphsextonministries.com
SUMMARY:Heritage Keepers
DESCRIPTION:
URL:https://ralphsextonministries.com/event/heritage-keepers-40/
LOCATION:Trinity Baptist Church-AVL\, 216 Shelburne Road\, Asheville\, NC\, 28806\, United States
CATEGORIES:Weekly Bible Study
END:VEVENT
BEGIN:VEVENT
DTSTART;TZID=America/Halifax:20251111T183000
DTEND;TZID=America/Halifax:20251111T203000
DTSTAMP:20260423T203219
CREATED:20251029T021034Z
LAST-MODIFIED:20251029T021034Z
UID:5220-1762885800-1762893000@ralphsextonministries.com
SUMMARY:Special Service
DESCRIPTION:What an honor to partner with Higher Ground and Pastor Jason Dowdell along with Pastor Roy Yelton for this evening to benefit Recovery Sodiers Ministries. Help us pray four souls to be saved! It all begins November 11\, at 6:30\, in Kingsport\, TN.
URL:https://ralphsextonministries.com/event/special-service-3/
LOCATION:Higher Ground Baptist\, 1625 Lynn Garden Drive\, Kingsport\, TN\, United States
CATEGORIES:Special Meeting
END:VEVENT
BEGIN:VEVENT
DTSTART;TZID=America/Halifax:20251109T110000
DTEND;TZID=America/Halifax:20251109T170000
DTSTAMP:20260423T203219
CREATED:20251029T020419Z
LAST-MODIFIED:20251029T020419Z
UID:5216-1762686000-1762707600@ralphsextonministries.com
SUMMARY:Sunday Worship
DESCRIPTION:Meet with us at Greystone Baptist in Greenville\, TN at 11:00 a.m.
URL:https://ralphsextonministries.com/event/sunday-worship/
LOCATION:Greystone FW Baptist Church\, 5345 Greystone Road\, Greenville\, TN\, United States
CATEGORIES:Church Service
END:VEVENT
BEGIN:VEVENT
DTSTART;TZID=America/Halifax:20251106T190000
DTEND;TZID=America/Halifax:20251106T210000
DTSTAMP:20260423T203219
CREATED:20251029T015529Z
LAST-MODIFIED:20251029T015543Z
UID:5213-1762455600-1762462800@ralphsextonministries.com
SUMMARY:Harvest Jubilee
DESCRIPTION:Join us for the Harvest Jubilee with Pastor Paul Deal at Winkler’s Grove Baptist Church in Hickory\, NC. Service begins at 7:00 p.m.
URL:https://ralphsextonministries.com/event/harvest-jubilee/
LOCATION:Winkler’s Grove Baptist\, 3320 9th Ave Dr NW\, Hickory\, NC\, 28601\, United States
CATEGORIES:Church Service,Special Meeting
END:VEVENT
BEGIN:VEVENT
DTSTART;TZID=America/New_York:20251105T100000
DTEND;TZID=America/New_York:20251105T120000
DTSTAMP:20260423T203219
CREATED:20250717T173801Z
LAST-MODIFIED:20250717T173801Z
UID:5028-1762336800-1762344000@ralphsextonministries.com
SUMMARY:Heritage Keepers
DESCRIPTION:
URL:https://ralphsextonministries.com/event/heritage-keepers-39/
LOCATION:Trinity Baptist Church-AVL\, 216 Shelburne Road\, Asheville\, NC\, 28806\, United States
CATEGORIES:Weekly Bible Study
END:VEVENT
BEGIN:VEVENT
DTSTART;TZID=America/Halifax:20251104T190000
DTEND;TZID=America/Halifax:20251104T210000
DTSTAMP:20260423T203219
CREATED:20251029T014727Z
LAST-MODIFIED:20251029T014831Z
UID:5210-1762282800-1762290000@ralphsextonministries.com
SUMMARY:Revival Service
DESCRIPTION:Join us for a powerful night of preaching\, as well as worship with The Primitive Quartet.
URL:https://ralphsextonministries.com/event/revival-service-6/
LOCATION:Maple Ridge Baptist\, 133 Medford Branch Rd\, Candler\, NC\, 28715\, United States
CATEGORIES:Revivals
END:VEVENT
BEGIN:VEVENT
DTSTART;VALUE=DATE:20251102
DTEND;VALUE=DATE:20251103
DTSTAMP:20260423T203219
CREATED:20251029T013833Z
LAST-MODIFIED:20251029T013851Z
UID:5207-1762041600-1762127999@ralphsextonministries.com
SUMMARY:Sunday Services
DESCRIPTION:Join us at Hillcrest Baptist with Pastor Tyler Gaulden in Lebanon\, TN at 8:30 a.m.\, 11:00 a.m.\, and 6:00 p.m. (central).
URL:https://ralphsextonministries.com/event/sunday-services-6/
LOCATION:Hillcrest Baptist Church\, 621 Hartsville Pike\, Lebanon\, TN
CATEGORIES:Church Service
END:VEVENT
BEGIN:VEVENT
DTSTART;TZID=America/New_York:20251029T100000
DTEND;TZID=America/New_York:20251029T120000
DTSTAMP:20260423T203219
CREATED:20250717T173732Z
LAST-MODIFIED:20250717T173732Z
UID:5025-1761732000-1761739200@ralphsextonministries.com
SUMMARY:Heritage Keepers
DESCRIPTION:
URL:https://ralphsextonministries.com/event/heritage-keepers-38/
LOCATION:Trinity Baptist Church-AVL\, 216 Shelburne Road\, Asheville\, NC\, 28806\, United States
CATEGORIES:Weekly Bible Study
END:VEVENT
BEGIN:VEVENT
DTSTART;VALUE=DATE:20251024
DTEND;VALUE=DATE:20251025
DTSTAMP:20260423T203219
CREATED:20250930T193123Z
LAST-MODIFIED:20250930T193123Z
UID:5193-1761264000-1761350399@ralphsextonministries.com
SUMMARY:Mission Point Jubilee
DESCRIPTION:
URL:https://ralphsextonministries.com/event/mission-point-jubilee-4/
LOCATION:Mission Point Jubilee\, 99 Mission Drive\, Jamestown\, TN\, 38556\, United States
CATEGORIES:Revivals
END:VEVENT
BEGIN:VEVENT
DTSTART;TZID=America/New_York:20251022T100000
DTEND;TZID=America/New_York:20251022T120000
DTSTAMP:20260423T203219
CREATED:20250717T173705Z
LAST-MODIFIED:20250717T173705Z
UID:5022-1761127200-1761134400@ralphsextonministries.com
SUMMARY:Heritage Keepers
DESCRIPTION:
URL:https://ralphsextonministries.com/event/heritage-keepers-37/
LOCATION:Trinity Baptist Church-AVL\, 216 Shelburne Road\, Asheville\, NC\, 28806\, United States
CATEGORIES:Weekly Bible Study
END:VEVENT
BEGIN:VEVENT
DTSTART;VALUE=DATE:20251019
DTEND;VALUE=DATE:20251023
DTSTAMP:20260423T203219
CREATED:20250930T192846Z
LAST-MODIFIED:20250930T192846Z
UID:5190-1760832000-1761177599@ralphsextonministries.com
SUMMARY:Victory Baptist Church
DESCRIPTION:
URL:https://ralphsextonministries.com/event/victory-baptist-church-2/
LOCATION:Victory Baptist – N. Augusta\, 620 W Martintown Road\, North Augusta\, SC\, 29841\, United States
CATEGORIES:Church Service,Revivals
END:VEVENT
BEGIN:VEVENT
DTSTART;TZID=America/New_York:20251015T100000
DTEND;TZID=America/New_York:20251015T120000
DTSTAMP:20260423T203219
CREATED:20250717T173652Z
LAST-MODIFIED:20250717T173652Z
UID:5019-1760522400-1760529600@ralphsextonministries.com
SUMMARY:Heritage Keepers
DESCRIPTION:
URL:https://ralphsextonministries.com/event/heritage-keepers-36/
LOCATION:Trinity Baptist Church-AVL\, 216 Shelburne Road\, Asheville\, NC\, 28806\, United States
CATEGORIES:Weekly Bible Study
END:VEVENT
BEGIN:VEVENT
DTSTART;TZID=America/Halifax:20251009T190000
DTEND;TZID=America/Halifax:20251009T210000
DTSTAMP:20260423T203219
CREATED:20250904T200814Z
LAST-MODIFIED:20250904T200814Z
UID:5174-1760036400-1760043600@ralphsextonministries.com
SUMMARY:Prayer Meeting in the Barn
DESCRIPTION:Join us for a powerful evening of prayer\, worship\, and fellowship at our monthly Prayer Meeting in the Barn!
URL:https://ralphsextonministries.com/event/prayer-meeting-in-the-barn-4/
LOCATION:Mountain Crusade Tent Site\, 4630 Bristol Highway\, Piney Flats\, TN\, 37686\, United States
CATEGORIES:Prayer
END:VEVENT
BEGIN:VEVENT
DTSTART;TZID=America/New_York:20251008T100000
DTEND;TZID=America/New_York:20251008T120000
DTSTAMP:20260423T203219
CREATED:20250717T173635Z
LAST-MODIFIED:20250717T173635Z
UID:5016-1759917600-1759924800@ralphsextonministries.com
SUMMARY:Heritage Keepers
DESCRIPTION:
URL:https://ralphsextonministries.com/event/heritage-keepers-35/
LOCATION:Trinity Baptist Church-AVL\, 216 Shelburne Road\, Asheville\, NC\, 28806\, United States
CATEGORIES:Weekly Bible Study
END:VEVENT
BEGIN:VEVENT
DTSTART;VALUE=DATE:20251005
DTEND;VALUE=DATE:20251006
DTSTAMP:20260423T203219
CREATED:20250930T192701Z
LAST-MODIFIED:20250930T192701Z
UID:5184-1759622400-1759708799@ralphsextonministries.com
SUMMARY:Trinity Homecoming
DESCRIPTION:Join us as we celebrate Trinity Baptist Church’s 59th Homecoming and Dr. Ralph Sexton’s 50th year in ministry!
URL:https://ralphsextonministries.com/event/trinity-homecoming/
LOCATION:Trinity Baptist Church-AVL\, 216 Shelburne Road\, Asheville\, NC\, 28806\, United States
CATEGORIES:Church Service
END:VEVENT
BEGIN:VEVENT
DTSTART;TZID=America/New_York:20251001T100000
DTEND;TZID=America/New_York:20251001T120000
DTSTAMP:20260423T203219
CREATED:20250717T173617Z
LAST-MODIFIED:20250717T173617Z
UID:5013-1759312800-1759320000@ralphsextonministries.com
SUMMARY:Heritage Keepers
DESCRIPTION:
URL:https://ralphsextonministries.com/event/heritage-keepers-34/
LOCATION:Trinity Baptist Church-AVL\, 216 Shelburne Road\, Asheville\, NC\, 28806\, United States
CATEGORIES:Weekly Bible Study
END:VEVENT
BEGIN:VEVENT
DTSTART;TZID=America/New_York:20250924T100000
DTEND;TZID=America/New_York:20250924T120000
DTSTAMP:20260423T203219
CREATED:20250717T173602Z
LAST-MODIFIED:20250717T173602Z
UID:5010-1758708000-1758715200@ralphsextonministries.com
SUMMARY:Heritage Keepers
DESCRIPTION:
URL:https://ralphsextonministries.com/event/heritage-keepers-33/
LOCATION:Trinity Baptist Church-AVL\, 216 Shelburne Road\, Asheville\, NC\, 28806\, United States
CATEGORIES:Weekly Bible Study
END:VEVENT
BEGIN:VEVENT
DTSTART;VALUE=DATE:20250921
DTEND;VALUE=DATE:20250922
DTSTAMP:20260423T203219
CREATED:20250904T194704Z
LAST-MODIFIED:20250904T194704Z
UID:5168-1758412800-1758499199@ralphsextonministries.com
SUMMARY:Riverside Baptist Church
DESCRIPTION:AM Service
URL:https://ralphsextonministries.com/event/riverside-baptist-church/
LOCATION:Riverside Baptist Church\, 871 Riverside Dr\, Asheville\, NC\, 28804\, United States
CATEGORIES:Church Service,Revivals
END:VEVENT
BEGIN:VEVENT
DTSTART;TZID=America/New_York:20250917T100000
DTEND;TZID=America/New_York:20250917T120000
DTSTAMP:20260423T203219
CREATED:20250717T173547Z
LAST-MODIFIED:20250717T173547Z
UID:5007-1758103200-1758110400@ralphsextonministries.com
SUMMARY:Heritage Keepers
DESCRIPTION:
URL:https://ralphsextonministries.com/event/heritage-keepers-32/
LOCATION:Trinity Baptist Church-AVL\, 216 Shelburne Road\, Asheville\, NC\, 28806\, United States
CATEGORIES:Weekly Bible Study
END:VEVENT
BEGIN:VEVENT
DTSTART;VALUE=DATE:20250914
DTEND;VALUE=DATE:20250915
DTSTAMP:20260423T203219
CREATED:20250904T194540Z
LAST-MODIFIED:20250904T194540Z
UID:5164-1757808000-1757894399@ralphsextonministries.com
SUMMARY:Fletcher First Baptist Church
DESCRIPTION:AM Service
URL:https://ralphsextonministries.com/event/fletcher-first-baptist-church/
LOCATION:Fletcher First Baptist Church\, 5 Cane Creek Rd\, Fletcher\, NC\, 28732\, United States
CATEGORIES:Church Service,Revivals
END:VEVENT
BEGIN:VEVENT
DTSTART;TZID=America/Halifax:20250911T190000
DTEND;TZID=America/Halifax:20250911T210000
DTSTAMP:20260423T203219
CREATED:20250717T174224Z
LAST-MODIFIED:20250717T174224Z
UID:5044-1757617200-1757624400@ralphsextonministries.com
SUMMARY:Prayer Meeting in the Barn
DESCRIPTION:Join us for a powerful evening of prayer\, worship\, and fellowship at our monthly Prayer Meeting in the Barn!
URL:https://ralphsextonministries.com/event/prayer-meeting-in-the-barn-3/
LOCATION:Mountain Crusade Tent Site\, 4630 Bristol Highway\, Piney Flats\, TN\, 37686\, United States
CATEGORIES:Prayer
END:VEVENT
BEGIN:VEVENT
DTSTART;TZID=America/New_York:20250910T100000
DTEND;TZID=America/New_York:20250910T120000
DTSTAMP:20260423T203219
CREATED:20250717T173527Z
LAST-MODIFIED:20250717T173527Z
UID:5004-1757498400-1757505600@ralphsextonministries.com
SUMMARY:Heritage Keepers
DESCRIPTION:
URL:https://ralphsextonministries.com/event/heritage-keepers-31/
LOCATION:Trinity Baptist Church-AVL\, 216 Shelburne Road\, Asheville\, NC\, 28806\, United States
CATEGORIES:Weekly Bible Study
END:VEVENT
BEGIN:VEVENT
DTSTART;VALUE=DATE:20250907
DTEND;VALUE=DATE:20250908
DTSTAMP:20260423T203219
CREATED:20250904T194325Z
LAST-MODIFIED:20250904T194325Z
UID:5160-1757203200-1757289599@ralphsextonministries.com
SUMMARY:Clearview Baptist Church
DESCRIPTION:AM & PM Services
URL:https://ralphsextonministries.com/event/clearview-baptist-church/
LOCATION:Clearview Baptist Church\, 5611 State Park Rd\, Travelers Rest\, SC\, 29690\, United States
CATEGORIES:Revivals
END:VEVENT
BEGIN:VEVENT
DTSTART;TZID=America/New_York:20250903T100000
DTEND;TZID=America/New_York:20250903T120000
DTSTAMP:20260423T203219
CREATED:20250717T173433Z
LAST-MODIFIED:20250717T173433Z
UID:5001-1756893600-1756900800@ralphsextonministries.com
SUMMARY:Heritage Keepers
DESCRIPTION:
URL:https://ralphsextonministries.com/event/heritage-keepers-30/
LOCATION:Trinity Baptist Church-AVL\, 216 Shelburne Road\, Asheville\, NC\, 28806\, United States
CATEGORIES:Weekly Bible Study
END:VEVENT
BEGIN:VEVENT
DTSTART;TZID=America/New_York:20250827T100000
DTEND;TZID=America/New_York:20250827T120000
DTSTAMP:20260423T203219
CREATED:20250717T173346Z
LAST-MODIFIED:20250717T173346Z
UID:4998-1756288800-1756296000@ralphsextonministries.com
SUMMARY:Heritage Keepers
DESCRIPTION:
URL:https://ralphsextonministries.com/event/heritage-keepers-29/
LOCATION:Trinity Baptist Church-AVL\, 216 Shelburne Road\, Asheville\, NC\, 28806\, United States
CATEGORIES:Weekly Bible Study
END:VEVENT
BEGIN:VEVENT
DTSTART;TZID=America/New_York:20250820T100000
DTEND;TZID=America/New_York:20250820T120000
DTSTAMP:20260423T203219
CREATED:20250717T173334Z
LAST-MODIFIED:20250717T173334Z
UID:4995-1755684000-1755691200@ralphsextonministries.com
SUMMARY:Heritage Keepers
DESCRIPTION:
URL:https://ralphsextonministries.com/event/heritage-keepers-28/
LOCATION:Trinity Baptist Church-AVL\, 216 Shelburne Road\, Asheville\, NC\, 28806\, United States
CATEGORIES:Weekly Bible Study
END:VEVENT
BEGIN:VEVENT
DTSTART;VALUE=DATE:20250820
DTEND;VALUE=DATE:20250823
DTSTAMP:20260423T203219
CREATED:20250717T175255Z
LAST-MODIFIED:20250717T175255Z
UID:5068-1755648000-1755907199@ralphsextonministries.com
SUMMARY:Lebanon Baptist Church
DESCRIPTION:
URL:https://ralphsextonministries.com/event/lebanon-baptist-church/
LOCATION:Lebanon Baptist Church – Bostic\, NC\, Bostic\, NC\, United States
CATEGORIES:Revivals
END:VEVENT
BEGIN:VEVENT
DTSTART;VALUE=DATE:20250817
DTEND;VALUE=DATE:20250819
DTSTAMP:20260423T203219
CREATED:20250717T175150Z
LAST-MODIFIED:20250717T175150Z
UID:5065-1755388800-1755561599@ralphsextonministries.com
SUMMARY:Zion Baptist Church
DESCRIPTION:
URL:https://ralphsextonministries.com/event/zion-baptist-church/
LOCATION:Zion Baptist Church – Elizabethton\, 1982 Gap Creek Road\, Elizabethton\, TN\, United States
CATEGORIES:Revivals
END:VEVENT
BEGIN:VEVENT
DTSTART;TZID=America/New_York:20250813T100000
DTEND;TZID=America/New_York:20250813T120000
DTSTAMP:20260423T203219
CREATED:20250717T173321Z
LAST-MODIFIED:20250717T173321Z
UID:4992-1755079200-1755086400@ralphsextonministries.com
SUMMARY:Heritage Keepers
DESCRIPTION:
URL:https://ralphsextonministries.com/event/heritage-keepers-27/
LOCATION:Trinity Baptist Church-AVL\, 216 Shelburne Road\, Asheville\, NC\, 28806\, United States
CATEGORIES:Weekly Bible Study
END:VEVENT
BEGIN:VEVENT
DTSTART;TZID=America/Halifax:20250807T190000
DTEND;TZID=America/Halifax:20250807T210000
DTSTAMP:20260423T203219
CREATED:20250709T175142Z
LAST-MODIFIED:20250709T175142Z
UID:4960-1754593200-1754600400@ralphsextonministries.com
SUMMARY:Prayer Meeting in the Barn
DESCRIPTION:Join us for a powerful evening of prayer\, worship\, and fellowship at our monthly Prayer Meeting in the Barn!
URL:https://ralphsextonministries.com/event/prayer-meeting-in-the-barn-2/
LOCATION:Mountain Crusade Tent Site\, 4630 Bristol Highway\, Piney Flats\, TN\, 37686\, United States
CATEGORIES:Prayer
END:VEVENT
END:VCALENDAR