BEGIN:VCALENDAR
VERSION:2.0
PRODID:-//Ralph Sexton Ministries - ECPv6.15.13//NONSGML v1.0//EN
CALSCALE:GREGORIAN
METHOD:PUBLISH
X-WR-CALNAME:Ralph Sexton Ministries
X-ORIGINAL-URL:https://ralphsextonministries.com
X-WR-CALDESC:Events for Ralph Sexton Ministries
REFRESH-INTERVAL;VALUE=DURATION:PT1H
X-Robots-Tag:noindex
X-PUBLISHED-TTL:PT1H
BEGIN:VTIMEZONE
TZID:UTC
BEGIN:STANDARD
TZOFFSETFROM:+0000
TZOFFSETTO:+0000
TZNAME:UTC
DTSTART:20210101T000000
END:STANDARD
END:VTIMEZONE
BEGIN:VTIMEZONE
TZID:America/New_York
BEGIN:DAYLIGHT
TZOFFSETFROM:-0500
TZOFFSETTO:-0400
TZNAME:EDT
DTSTART:20210314T070000
END:DAYLIGHT
BEGIN:STANDARD
TZOFFSETFROM:-0400
TZOFFSETTO:-0500
TZNAME:EST
DTSTART:20211107T060000
END:STANDARD
BEGIN:DAYLIGHT
TZOFFSETFROM:-0500
TZOFFSETTO:-0400
TZNAME:EDT
DTSTART:20220313T070000
END:DAYLIGHT
BEGIN:STANDARD
TZOFFSETFROM:-0400
TZOFFSETTO:-0500
TZNAME:EST
DTSTART:20221106T060000
END:STANDARD
BEGIN:DAYLIGHT
TZOFFSETFROM:-0500
TZOFFSETTO:-0400
TZNAME:EDT
DTSTART:20230312T070000
END:DAYLIGHT
BEGIN:STANDARD
TZOFFSETFROM:-0400
TZOFFSETTO:-0500
TZNAME:EST
DTSTART:20231105T060000
END:STANDARD
END:VTIMEZONE
BEGIN:VEVENT
DTSTART;TZID=UTC:20221012T100000
DTEND;TZID=UTC:20221012T100000
DTSTAMP:20260425T124442
CREATED:20221006T222636Z
LAST-MODIFIED:20230212T075556Z
UID:2940-1665568800-1665568800@ralphsextonministries.com
SUMMARY:Heritage Keepers - TBC
DESCRIPTION:Trinity Baptist Church\nPastor Winston Parrish \n216 Shelburne Road\nAsheville\, NC 28806 \nService at 10:00 AM\nLunch at 12:00 PM
URL:https://ralphsextonministries.com/event/heritage-keepers-2/
LOCATION:Trinity Baptist Church-AVL\, 216 Shelburne Road\, Asheville\, NC\, 28806\, United States
CATEGORIES:Weekly Bible Study
END:VEVENT
BEGIN:VEVENT
DTSTART;TZID=UTC:20221010T190000
DTEND;TZID=UTC:20221010T190000
DTSTAMP:20260425T124442
CREATED:20220902T033017Z
LAST-MODIFIED:20221006T225042Z
UID:2841-1665428400-1665428400@ralphsextonministries.com
SUMMARY:New Heights Baptist Church
DESCRIPTION:New Heights Baptist Church\nPastor Terry Lawson \n2796 NC-14\nReidsville\, NC 27320
URL:https://ralphsextonministries.com/event/new-heights-baptist-church/
LOCATION:Georgia
CATEGORIES:Church Service
END:VEVENT
BEGIN:VEVENT
DTSTART;VALUE=DATE:20221004
DTEND;VALUE=DATE:20221005
DTSTAMP:20260425T124442
CREATED:20220902T024705Z
LAST-MODIFIED:20220902T024705Z
UID:2822-1664841600-1664927999@ralphsextonministries.com
SUMMARY:Victory Baptist Church - Jubilee - Pastor Von Ramsey
DESCRIPTION:Victory Baptist Church Jubilee\, Denver\, NC – Von Ramsey
URL:https://ralphsextonministries.com/event/victory-baptist-church-jubilee-pastor-von-ramsey/
LOCATION:Victory Baptist Church – Denver\, NC\, 6041 King Wilkinson Rd\, Denver\, FL\, 28037\, United States
END:VEVENT
BEGIN:VEVENT
DTSTART;TZID=UTC:20221002T103000
DTEND;TZID=UTC:20221002T120000
DTSTAMP:20260425T124442
CREATED:20220930T233858Z
LAST-MODIFIED:20220930T233858Z
UID:2904-1664706600-1664712000@ralphsextonministries.com
SUMMARY:Homecoming - Trinity Baptist Asheville
DESCRIPTION:Join us as we celebrate Trinity’s 56th Homecoming!
URL:https://ralphsextonministries.com/event/homecoming-trinity-baptist-asheville/
LOCATION:Trinity Baptist Church-AVL\, 216 Shelburne Road\, Asheville\, NC\, 28806\, United States
CATEGORIES:Church Service
END:VEVENT
BEGIN:VEVENT
DTSTART;VALUE=DATE:20220925
DTEND;VALUE=DATE:20220926
DTSTAMP:20260425T124442
CREATED:20220902T020832Z
LAST-MODIFIED:20220902T021225Z
UID:2815-1664064000-1664150399@ralphsextonministries.com
SUMMARY:Oakland Avenue Baptist Church - Homecoming - 10:45 AM
DESCRIPTION:Homecoming at Oakland Avenue Baptist Church\, Johnson City\, TN – Pastor Roy Yelton
URL:https://ralphsextonministries.com/event/oakland-avenue-baptist-church-homecoming-1045-am/
LOCATION:Oakland Avenue Baptist Church\, 2823 E Oakland Ave\, Johnson City\, TN\, 37601\, United States
CATEGORIES:Church Service
END:VEVENT
BEGIN:VEVENT
DTSTART;TZID=UTC:20220923T190000
DTEND;TZID=UTC:20220923T210000
DTSTAMP:20260425T124442
CREATED:20220919T073036Z
LAST-MODIFIED:20220919T163335Z
UID:2889-1663959600-1663966800@ralphsextonministries.com
SUMMARY:Uwharrie Revival Extends
DESCRIPTION:
URL:https://ralphsextonministries.com/event/uwharrie-revival-extends-3/
LOCATION:UWHARRIE REVIVAL\, 24302 S Business 52\, Albemarle\, NC\, 28001\, United States
CATEGORIES:Revivals,Tent Meeting
END:VEVENT
BEGIN:VEVENT
DTSTART;TZID=UTC:20220922T190000
DTEND;TZID=UTC:20220922T210000
DTSTAMP:20260425T124442
CREATED:20220919T072747Z
LAST-MODIFIED:20220919T072747Z
UID:2885-1663873200-1663880400@ralphsextonministries.com
SUMMARY:Uwharrie Revival Extends
DESCRIPTION:
URL:https://ralphsextonministries.com/event/uwharrie-revival-extends-2/
LOCATION:UWHARRIE REVIVAL\, 24302 S Business 52\, Albemarle\, NC\, 28001\, United States
END:VEVENT
BEGIN:VEVENT
DTSTART;TZID=UTC:20220919T190000
DTEND;TZID=UTC:20220919T210000
DTSTAMP:20260425T124442
CREATED:20220919T070946Z
LAST-MODIFIED:20220919T071244Z
UID:2882-1663614000-1663621200@ralphsextonministries.com
SUMMARY:Uwharrie Revival Extends
DESCRIPTION:
URL:https://ralphsextonministries.com/event/uwharrie-revival-extends/
LOCATION:UWHARRIE REVIVAL\, 24302 S Business 52\, Albemarle\, NC\, 28001\, United States
CATEGORIES:Revivals,Tent Meeting
END:VEVENT
BEGIN:VEVENT
DTSTART;VALUE=DATE:20220912
DTEND;VALUE=DATE:20220917
DTSTAMP:20260425T124442
CREATED:20220902T032057Z
LAST-MODIFIED:20220902T032620Z
UID:2834-1662940800-1663372799@ralphsextonministries.com
SUMMARY:Uwharrie Revival - Week 2
DESCRIPTION:Monday-Friday\n6:15 p.m. Choir Practice\n7:00 p.m. Service\nAmerican Legion Post 76\n24302 S Business 52 Albemarle\, NC
URL:https://ralphsextonministries.com/event/uwharrie-revival-week-2/
LOCATION:UWHARRIE REVIVAL\, 24302 S Business 52\, Albemarle\, NC\, 28001\, United States
CATEGORIES:Tent Meeting
END:VEVENT
BEGIN:VEVENT
DTSTART;VALUE=DATE:20220911
DTEND;VALUE=DATE:20220912
DTSTAMP:20260425T124442
CREATED:20220902T020358Z
LAST-MODIFIED:20220902T020358Z
UID:2810-1662854400-1662940799@ralphsextonministries.com
SUMMARY:Community Bible Baptist Church - 10:00 AM
DESCRIPTION:
URL:https://ralphsextonministries.com/event/community-bible-baptist-church-1000-am/
LOCATION:6565 78th Avenue North Pinellas Park\, Florida 33781\, 6565 78th Avenue North\, Pinellas Park\, FL\, 33781\, United States
END:VEVENT
BEGIN:VEVENT
DTSTART;VALUE=DATE:20220906
DTEND;VALUE=DATE:20220911
DTSTAMP:20260425T124442
CREATED:20220902T031927Z
LAST-MODIFIED:20220906T003335Z
UID:2828-1662422400-1662854399@ralphsextonministries.com
SUMMARY:Uwharrie Revival - Week 1
DESCRIPTION:Tuesday-Friday\n6:15 p.m. Choir Practice\n7:00 p.m. Service\nAmerican Legion Post 76\n24302 S Business 52 Albemarle\, NC
URL:https://ralphsextonministries.com/event/uwharrie-revival/
LOCATION:UWHARRIE REVIVAL\, 24302 S Business 52\, Albemarle\, NC\, 28001\, United States
CATEGORIES:Tent Meeting
END:VEVENT
BEGIN:VEVENT
DTSTART;TZID=UTC:20220808T190000
DTEND;TZID=UTC:20220808T210000
DTSTAMP:20260425T124442
CREATED:20220804T073422Z
LAST-MODIFIED:20220804T074057Z
UID:2781-1659985200-1659992400@ralphsextonministries.com
SUMMARY:Piedmont Jubilee
DESCRIPTION:
URL:https://ralphsextonministries.com/event/piedmont-jubilee/
LOCATION:Church Street Baptist\, 3113 North Church Street\, Greensboro\, NC\, 27405\, United States
CATEGORIES:Revivals
END:VEVENT
BEGIN:VEVENT
DTSTART;VALUE=DATE:20220807
DTEND;VALUE=DATE:20220808
DTSTAMP:20260425T124442
CREATED:20220804T072449Z
LAST-MODIFIED:20220804T072449Z
UID:2769-1659830400-1659916799@ralphsextonministries.com
SUMMARY:Preaching Service
DESCRIPTION:10:30 a.m. and 6:00 p.m.
URL:https://ralphsextonministries.com/event/preaching-service/
LOCATION:Piedmont Baptist Church\, 5870 Wright Road\, Kannapolis\, NC\, 28081
END:VEVENT
BEGIN:VEVENT
DTSTART;TZID=UTC:20220804T190000
DTEND;TZID=UTC:20220805T210000
DTSTAMP:20260425T124442
CREATED:20220804T071305Z
LAST-MODIFIED:20220804T073029Z
UID:2761-1659639600-1659733200@ralphsextonministries.com
SUMMARY:Revival Meeting
DESCRIPTION:
URL:https://ralphsextonministries.com/event/revival-meeting/
LOCATION:Harvest Baptist Church\, 9205 Brown Austin Rd\, Fairdale\, KY\, 40118
CATEGORIES:Church Service
END:VEVENT
BEGIN:VEVENT
DTSTART;TZID=UTC:20220804T100000
DTEND;TZID=UTC:20220804T120000
DTSTAMP:20260425T124442
CREATED:20220804T071911Z
LAST-MODIFIED:20220804T071932Z
UID:2765-1659607200-1659614400@ralphsextonministries.com
SUMMARY:40 Days & Nights - The Ark Encounter
DESCRIPTION:
URL:https://ralphsextonministries.com/event/40-days-nights-the-ark-encounter/
LOCATION:The Ark Encounter\, 1 Ark Encounter Drive\, Williamstown\, KY\, 41097
END:VEVENT
BEGIN:VEVENT
DTSTART;VALUE=DATE:20220523
DTEND;VALUE=DATE:20220528
DTSTAMP:20260425T124442
CREATED:20220427T233910Z
LAST-MODIFIED:20220427T234737Z
UID:2618-1653264000-1653695999@ralphsextonministries.com
SUMMARY:Tri-Cities Awake America Tent Crusade Week 2
DESCRIPTION:With Dr. Ralph Sexton Preaching Monday – Friday at 7:30 p.m.\nChoir Practice at 6:30\nSawdust Kids Drop off at 6:15\nPrayer meeting Tuesday – Friday at 10:30 a.m.
URL:https://ralphsextonministries.com/event/tri-cities-awake-america-tent-crusade-week-2/
LOCATION:Tri-Cities Tent Site\, 4630 Bristol Hwy\, Johnson City\, TN\, 37686\, United States
END:VEVENT
BEGIN:VEVENT
DTSTART;VALUE=DATE:20220516
DTEND;VALUE=DATE:20220521
DTSTAMP:20260425T124442
CREATED:20220427T233757Z
LAST-MODIFIED:20220427T233804Z
UID:2613-1652659200-1653091199@ralphsextonministries.com
SUMMARY:Tri-Cities Awake America Tent Crusade Week 1
DESCRIPTION:With Dr. Ralph Sexton Preaching Monday – Friday at 7:30 p.m.\nChoir Practice at 6:30\nSawdust Kids Drop off at 6:15\nPrayer meeting Tuesday – Friday at 10:30 a.m.
URL:https://ralphsextonministries.com/event/tri-cities-awake-america-tent-crusade-week-1/
LOCATION:Tri-Cities Tent Site\, 4630 Bristol Hwy\, Johnson City\, TN\, 37686\, United States
END:VEVENT
BEGIN:VEVENT
DTSTART;VALUE=DATE:20220508
DTEND;VALUE=DATE:20220514
DTSTAMP:20260425T124442
CREATED:20220430T203213Z
LAST-MODIFIED:20220430T203213Z
UID:2657-1651968000-1652486399@ralphsextonministries.com
SUMMARY:Aid Ukraine
DESCRIPTION:Aid Ukraine tour for delivering items donated for Ukrainian refugees and those suffering loss and devastation during the war.
URL:https://ralphsextonministries.com/event/aid-ukraine/
LOCATION:Georgia
CATEGORIES:International Travel
END:VEVENT
BEGIN:VEVENT
DTSTART;TZID=America/New_York:20220507T080000
DTEND;TZID=America/New_York:20220507T120000
DTSTAMP:20260425T124442
CREATED:20220427T234034Z
LAST-MODIFIED:20220427T234119Z
UID:2623-1651910400-1651924800@ralphsextonministries.com
SUMMARY:Tri-Cities Awake America Tent Crusade Setup
DESCRIPTION:Come help put the Tent in the Air Lunch Provided
URL:https://ralphsextonministries.com/event/tri-cities-awake-america-tent-crusade-setup/
LOCATION:Tri-Cities Tent Site\, 4630 Bristol Hwy\, Johnson City\, TN\, 37686\, United States
END:VEVENT
BEGIN:VEVENT
DTSTART;TZID=UTC:20220504T100000
DTEND;TZID=UTC:20220504T133000
DTSTAMP:20260425T124442
CREATED:20220428T000435Z
LAST-MODIFIED:20220428T000435Z
UID:2638-1651658400-1651671000@ralphsextonministries.com
SUMMARY:Heritage Keepers
DESCRIPTION:Join us for Bible Study and Lunch \nFinal Weekly Heritage Keepers for the Summer We Will Move to Once a Month Until the Fall.
URL:https://ralphsextonministries.com/event/heritage-keepers/
LOCATION:Trinity Baptist Church-AVL\, 216 Shelburne Road\, Asheville\, NC\, 28806\, United States
END:VEVENT
BEGIN:VEVENT
DTSTART;TZID=UTC:20220502T190000
DTEND;TZID=UTC:20220502T210000
DTSTAMP:20260425T124442
CREATED:20220430T202727Z
LAST-MODIFIED:20220430T204156Z
UID:2651-1651518000-1651525200@ralphsextonministries.com
SUMMARY:Preaching - Church Service
DESCRIPTION:Monday\, May 2\, 2022\nHope Baptist\nSophie\, NC\nPastor Steve McSwain\n7:00 p.m.
URL:https://ralphsextonministries.com/event/preaching-church-service/
LOCATION:Hope Baptist Church\, 4872 Old Edgar Rd\, Sophia\, NC\, NC\, 27350\, United States
CATEGORIES:Church Service
END:VEVENT
BEGIN:VEVENT
DTSTART;VALUE=DATE:20220501
DTEND;VALUE=DATE:20220502
DTSTAMP:20260425T124442
CREATED:20220430T202433Z
LAST-MODIFIED:20220430T203650Z
UID:2648-1651363200-1651449599@ralphsextonministries.com
SUMMARY:Preaching - Church Services
DESCRIPTION:Sunday May 1\, 2022\nHope Baptist Church\nSophia\, NC\nPastor Steve McSwain\n10:45 a.m. & 6:00 p.m.
URL:https://ralphsextonministries.com/event/preaching-church-services/
LOCATION:Hope Baptist Church\, 4872 Old Edgar Rd\, Sophia\, NC\, NC\, 27350\, United States
CATEGORIES:Church Service
END:VEVENT
BEGIN:VEVENT
DTSTART;TZID=America/New_York:20220430T100000
DTEND;TZID=America/New_York:20220430T140000
DTSTAMP:20260425T124442
CREATED:20220427T234618Z
LAST-MODIFIED:20220427T234618Z
UID:2627-1651312800-1651327200@ralphsextonministries.com
SUMMARY:Faith Baptist Church Men's Conference - Taking a Stand
DESCRIPTION:April 30\, 2022\nFaith Baptist Church\nMen’s Conference – “Taking a Stand”\nPastor Chad Nall\n2180 Carthage Road West End\, NC
URL:https://ralphsextonministries.com/event/faith-baptist-church-mens-conference-taking-a-stand/
LOCATION:2180 Carthage Road West End\, NC\, 2180 Carthage Road\, West End\, NC\, 27376\, United States
END:VEVENT
END:VCALENDAR