BEGIN:VCALENDAR
VERSION:2.0
PRODID:-//Ralph Sexton Ministries - ECPv6.15.13//NONSGML v1.0//EN
CALSCALE:GREGORIAN
METHOD:PUBLISH
X-ORIGINAL-URL:https://ralphsextonministries.com
X-WR-CALDESC:Events for Ralph Sexton Ministries
REFRESH-INTERVAL;VALUE=DURATION:PT1H
X-Robots-Tag:noindex
X-PUBLISHED-TTL:PT1H
BEGIN:VTIMEZONE
TZID:America/Halifax
BEGIN:DAYLIGHT
TZOFFSETFROM:-0400
TZOFFSETTO:-0300
TZNAME:ADT
DTSTART:20240310T060000
END:DAYLIGHT
BEGIN:STANDARD
TZOFFSETFROM:-0300
TZOFFSETTO:-0400
TZNAME:AST
DTSTART:20241103T050000
END:STANDARD
BEGIN:DAYLIGHT
TZOFFSETFROM:-0400
TZOFFSETTO:-0300
TZNAME:ADT
DTSTART:20250309T060000
END:DAYLIGHT
BEGIN:STANDARD
TZOFFSETFROM:-0300
TZOFFSETTO:-0400
TZNAME:AST
DTSTART:20251102T050000
END:STANDARD
BEGIN:DAYLIGHT
TZOFFSETFROM:-0400
TZOFFSETTO:-0300
TZNAME:ADT
DTSTART:20260308T060000
END:DAYLIGHT
BEGIN:STANDARD
TZOFFSETFROM:-0300
TZOFFSETTO:-0400
TZNAME:AST
DTSTART:20261101T050000
END:STANDARD
BEGIN:DAYLIGHT
TZOFFSETFROM:-0400
TZOFFSETTO:-0300
TZNAME:ADT
DTSTART:20270314T060000
END:DAYLIGHT
BEGIN:STANDARD
TZOFFSETFROM:-0300
TZOFFSETTO:-0400
TZNAME:AST
DTSTART:20271107T050000
END:STANDARD
END:VTIMEZONE
BEGIN:VTIMEZONE
TZID:America/New_York
BEGIN:DAYLIGHT
TZOFFSETFROM:-0500
TZOFFSETTO:-0400
TZNAME:EDT
DTSTART:20240310T070000
END:DAYLIGHT
BEGIN:STANDARD
TZOFFSETFROM:-0400
TZOFFSETTO:-0500
TZNAME:EST
DTSTART:20241103T060000
END:STANDARD
BEGIN:DAYLIGHT
TZOFFSETFROM:-0500
TZOFFSETTO:-0400
TZNAME:EDT
DTSTART:20250309T070000
END:DAYLIGHT
BEGIN:STANDARD
TZOFFSETFROM:-0400
TZOFFSETTO:-0500
TZNAME:EST
DTSTART:20251102T060000
END:STANDARD
BEGIN:DAYLIGHT
TZOFFSETFROM:-0500
TZOFFSETTO:-0400
TZNAME:EDT
DTSTART:20260308T070000
END:DAYLIGHT
BEGIN:STANDARD
TZOFFSETFROM:-0400
TZOFFSETTO:-0500
TZNAME:EST
DTSTART:20261101T060000
END:STANDARD
END:VTIMEZONE
BEGIN:VEVENT
DTSTART;VALUE=DATE:20251102
DTEND;VALUE=DATE:20251103
DTSTAMP:20260423T212220
CREATED:20251029T013833Z
LAST-MODIFIED:20251029T013851Z
UID:5207-1762041600-1762127999@ralphsextonministries.com
SUMMARY:Sunday Services
DESCRIPTION:Join us at Hillcrest Baptist with Pastor Tyler Gaulden in Lebanon\, TN at 8:30 a.m.\, 11:00 a.m.\, and 6:00 p.m. (central).
URL:https://ralphsextonministries.com/event/sunday-services-6/
LOCATION:Hillcrest Baptist Church\, 621 Hartsville Pike\, Lebanon\, TN
CATEGORIES:Church Service
END:VEVENT
BEGIN:VEVENT
DTSTART;TZID=America/Halifax:20251104T190000
DTEND;TZID=America/Halifax:20251104T210000
DTSTAMP:20260423T212220
CREATED:20251029T014727Z
LAST-MODIFIED:20251029T014831Z
UID:5210-1762282800-1762290000@ralphsextonministries.com
SUMMARY:Revival Service
DESCRIPTION:Join us for a powerful night of preaching\, as well as worship with The Primitive Quartet.
URL:https://ralphsextonministries.com/event/revival-service-6/
LOCATION:Maple Ridge Baptist\, 133 Medford Branch Rd\, Candler\, NC\, 28715\, United States
CATEGORIES:Revivals
END:VEVENT
BEGIN:VEVENT
DTSTART;TZID=America/New_York:20251105T100000
DTEND;TZID=America/New_York:20251105T120000
DTSTAMP:20260423T212220
CREATED:20250717T173801Z
LAST-MODIFIED:20250717T173801Z
UID:5028-1762336800-1762344000@ralphsextonministries.com
SUMMARY:Heritage Keepers
DESCRIPTION:
URL:https://ralphsextonministries.com/event/heritage-keepers-39/
LOCATION:Trinity Baptist Church-AVL\, 216 Shelburne Road\, Asheville\, NC\, 28806\, United States
CATEGORIES:Weekly Bible Study
END:VEVENT
BEGIN:VEVENT
DTSTART;TZID=America/Halifax:20251106T190000
DTEND;TZID=America/Halifax:20251106T210000
DTSTAMP:20260423T212220
CREATED:20251029T015529Z
LAST-MODIFIED:20251029T015543Z
UID:5213-1762455600-1762462800@ralphsextonministries.com
SUMMARY:Harvest Jubilee
DESCRIPTION:Join us for the Harvest Jubilee with Pastor Paul Deal at Winkler’s Grove Baptist Church in Hickory\, NC. Service begins at 7:00 p.m.
URL:https://ralphsextonministries.com/event/harvest-jubilee/
LOCATION:Winkler’s Grove Baptist\, 3320 9th Ave Dr NW\, Hickory\, NC\, 28601\, United States
CATEGORIES:Church Service,Special Meeting
END:VEVENT
BEGIN:VEVENT
DTSTART;TZID=America/Halifax:20251109T110000
DTEND;TZID=America/Halifax:20251109T170000
DTSTAMP:20260423T212220
CREATED:20251029T020419Z
LAST-MODIFIED:20251029T020419Z
UID:5216-1762686000-1762707600@ralphsextonministries.com
SUMMARY:Sunday Worship
DESCRIPTION:Meet with us at Greystone Baptist in Greenville\, TN at 11:00 a.m.
URL:https://ralphsextonministries.com/event/sunday-worship/
LOCATION:Greystone FW Baptist Church\, 5345 Greystone Road\, Greenville\, TN\, United States
CATEGORIES:Church Service
END:VEVENT
BEGIN:VEVENT
DTSTART;TZID=America/Halifax:20251111T183000
DTEND;TZID=America/Halifax:20251111T203000
DTSTAMP:20260423T212220
CREATED:20251029T021034Z
LAST-MODIFIED:20251029T021034Z
UID:5220-1762885800-1762893000@ralphsextonministries.com
SUMMARY:Special Service
DESCRIPTION:What an honor to partner with Higher Ground and Pastor Jason Dowdell along with Pastor Roy Yelton for this evening to benefit Recovery Sodiers Ministries. Help us pray four souls to be saved! It all begins November 11\, at 6:30\, in Kingsport\, TN.
URL:https://ralphsextonministries.com/event/special-service-3/
LOCATION:Higher Ground Baptist\, 1625 Lynn Garden Drive\, Kingsport\, TN\, United States
CATEGORIES:Special Meeting
END:VEVENT
BEGIN:VEVENT
DTSTART;TZID=America/New_York:20251112T100000
DTEND;TZID=America/New_York:20251112T120000
DTSTAMP:20260423T212220
CREATED:20250717T173813Z
LAST-MODIFIED:20250717T173813Z
UID:5031-1762941600-1762948800@ralphsextonministries.com
SUMMARY:Heritage Keepers
DESCRIPTION:
URL:https://ralphsextonministries.com/event/heritage-keepers-40/
LOCATION:Trinity Baptist Church-AVL\, 216 Shelburne Road\, Asheville\, NC\, 28806\, United States
CATEGORIES:Weekly Bible Study
END:VEVENT
BEGIN:VEVENT
DTSTART;TZID=America/Halifax:20251113T190000
DTEND;TZID=America/Halifax:20251113T210000
DTSTAMP:20260423T212220
CREATED:20250904T200829Z
LAST-MODIFIED:20250904T200829Z
UID:5177-1763060400-1763067600@ralphsextonministries.com
SUMMARY:Prayer Meeting in the Barn
DESCRIPTION:Join us for a powerful evening of prayer\, worship\, and fellowship at our monthly Prayer Meeting in the Barn!
URL:https://ralphsextonministries.com/event/prayer-meeting-in-the-barn-5/
LOCATION:Mountain Crusade Tent Site\, 4630 Bristol Highway\, Piney Flats\, TN\, 37686\, United States
CATEGORIES:Prayer
END:VEVENT
BEGIN:VEVENT
DTSTART;TZID=America/New_York:20251119T100000
DTEND;TZID=America/New_York:20251119T120000
DTSTAMP:20260423T212220
CREATED:20250717T173828Z
LAST-MODIFIED:20250717T173828Z
UID:5034-1763546400-1763553600@ralphsextonministries.com
SUMMARY:Heritage Keepers
DESCRIPTION:
URL:https://ralphsextonministries.com/event/heritage-keepers-41/
LOCATION:Trinity Baptist Church-AVL\, 216 Shelburne Road\, Asheville\, NC\, 28806\, United States
CATEGORIES:Weekly Bible Study
END:VEVENT
BEGIN:VEVENT
DTSTART;TZID=America/Halifax:20251211T190000
DTEND;TZID=America/Halifax:20251211T210000
DTSTAMP:20260423T212220
CREATED:20250904T200845Z
LAST-MODIFIED:20250904T200845Z
UID:5180-1765479600-1765486800@ralphsextonministries.com
SUMMARY:Prayer Meeting in the Barn
DESCRIPTION:Join us for a powerful evening of prayer\, worship\, and fellowship at our monthly Prayer Meeting in the Barn!
URL:https://ralphsextonministries.com/event/prayer-meeting-in-the-barn-6/
LOCATION:Mountain Crusade Tent Site\, 4630 Bristol Highway\, Piney Flats\, TN\, 37686\, United States
CATEGORIES:Prayer
END:VEVENT
BEGIN:VEVENT
DTSTART;TZID=America/New_York:20251231T100000
DTEND;TZID=America/New_York:20251231T120000
DTSTAMP:20260423T212220
CREATED:20251230T175000Z
LAST-MODIFIED:20251230T175000Z
UID:5280-1767175200-1767182400@ralphsextonministries.com
SUMMARY:Heritage Keepers
DESCRIPTION:
URL:https://ralphsextonministries.com/event/heritage-keepers-42/
LOCATION:Trinity Baptist Church-AVL\, 216 Shelburne Road\, Asheville\, NC\, 28806\, United States
CATEGORIES:Weekly Bible Study
END:VEVENT
BEGIN:VEVENT
DTSTART;VALUE=DATE:20260126
DTEND;VALUE=DATE:20260201
DTSTAMP:20260423T212220
CREATED:20260114T165922Z
LAST-MODIFIED:20260114T165935Z
UID:5298-1769385600-1769903999@ralphsextonministries.com
SUMMARY:Singing at Sea Cruise
DESCRIPTION:
URL:https://ralphsextonministries.com/event/singing-at-sea-cruise/
LOCATION:TN
CATEGORIES:Church Service,International Travel,Outing
END:VEVENT
BEGIN:VEVENT
DTSTART;VALUE=DATE:20260324
DTEND;VALUE=DATE:20260401
DTSTAMP:20260423T212220
CREATED:20260114T170935Z
LAST-MODIFIED:20260114T171417Z
UID:5308-1774310400-1775001599@ralphsextonministries.com
SUMMARY:Israel Spring 2026 Tour
DESCRIPTION:
URL:https://ralphsextonministries.com/event/israel-spring-2026-tour/
LOCATION:TN
CATEGORIES:Church Service,International Travel,Special Meeting
END:VEVENT
BEGIN:VEVENT
DTSTART;TZID=America/Halifax:20260410T000000
DTEND;TZID=America/Halifax:20260411T235900
DTSTAMP:20260423T212220
CREATED:20260408T190020Z
LAST-MODIFIED:20260408T190244Z
UID:5360-1775779200-1775951940@ralphsextonministries.com
SUMMARY:Iron Men's Conference Willow Park\, TX
DESCRIPTION:Willow Park Baptist Church 777 Crown Pointe Blvd.\, Willow Park TX \nApril 10-11\, 2026 \n 
URL:https://ralphsextonministries.com/event/iron-mens-conference-willow-park-tx/
LOCATION:Willow Park Baptist Church\, 777 Crown Pointe Blvd.\, Willow Park TX\, TX\, United States
CATEGORIES:Conference
END:VEVENT
BEGIN:VEVENT
DTSTART;TZID=America/Halifax:20260412T103000
DTEND;TZID=America/Halifax:20260412T120000
DTSTAMP:20260423T212220
CREATED:20260408T192252Z
LAST-MODIFIED:20260408T194521Z
UID:5367-1775989800-1775995200@ralphsextonministries.com
SUMMARY:Aurora Baptist Church Aurora\, Texas
DESCRIPTION:Aurora Baptist Church \nService 10:30 AM
URL:https://ralphsextonministries.com/event/aurora-baptist-church-aurora-texas/
LOCATION:Aurora Baptist Church\, 201 Derting Rd.\, Aurora\, TX \, 76078\, United States
CATEGORIES:Church Service
END:VEVENT
BEGIN:VEVENT
DTSTART;TZID=America/Halifax:20260412T170000
DTEND;TZID=America/Halifax:20260412T190000
DTSTAMP:20260423T212220
CREATED:20260408T193805Z
LAST-MODIFIED:20260408T194538Z
UID:5372-1776013200-1776020400@ralphsextonministries.com
SUMMARY:Willow Park Baptist Church Willow Park\, Texas
DESCRIPTION:Willow Park Baptist Church Willow Park\, Texas \nService 5:00 PM
URL:https://ralphsextonministries.com/event/willow-park-baptist-church-willow-park-texas/
LOCATION:Willow Park Baptist Church\, 777 Crown Pointe Blvd.\, Willow Park TX\, TX\, United States
CATEGORIES:Church Service
END:VEVENT
BEGIN:VEVENT
DTSTART;TZID=America/Halifax:20260413T183000
DTEND;TZID=America/Halifax:20260415T183000
DTSTAMP:20260423T212220
CREATED:20260408T194412Z
LAST-MODIFIED:20260408T194502Z
UID:5375-1776105000-1776277800@ralphsextonministries.com
SUMMARY:His Place Fellowship Paris\, Texas
DESCRIPTION:His Place Fellowship Paris\, Texas \nMonday-Wednesday \nService 6:30PM
URL:https://ralphsextonministries.com/event/his-place-fellowship-paris-texas/
LOCATION:His Place Fellowship\, 925 TX-24\, Paris\, TX\, 75462\, United States
CATEGORIES:Prophecy Conference,Revivals
END:VEVENT
BEGIN:VEVENT
DTSTART;VALUE=DATE:20260419
DTEND;VALUE=DATE:20260420
DTSTAMP:20260423T212220
CREATED:20260408T195537Z
LAST-MODIFIED:20260408T195537Z
UID:5382-1776556800-1776643199@ralphsextonministries.com
SUMMARY:Mt. Pleasant Baptist Church Elkview\, WV
DESCRIPTION:Mt. Pleasant Baptist Church Elkview\, WV \nService Times 11:00 AM and 6:30 PM
URL:https://ralphsextonministries.com/event/mt-pleasant-baptist-church-elkview-wv/
LOCATION:Mt. Pleasant Baptist\, 58 Mt. Pleasant Drive\, Elkview\, WV
CATEGORIES:Church Service
END:VEVENT
BEGIN:VEVENT
DTSTART;TZID=America/Halifax:20260423T190000
DTEND;TZID=America/Halifax:20260423T210000
DTSTAMP:20260423T212220
CREATED:20260408T200041Z
LAST-MODIFIED:20260408T200041Z
UID:5386-1776970800-1776978000@ralphsextonministries.com
SUMMARY:Prayer Meeting in the Barn Piney Flats\, TN
DESCRIPTION:Prayer Meeting in the Barn \nMountain Crusade Tent Site \n4630 Bristol Hwy. Piney Flats\, TN \nService Time 7:00 PM
URL:https://ralphsextonministries.com/event/prayer-meeting-in-the-barn-piney-flats-tn/
LOCATION:Mountain Crusade Tent Site\, 4630 Bristol Highway\, Piney Flats\, TN\, 37686\, United States
CATEGORIES:Prayer,Prophecy Conference,Special Meeting
END:VEVENT
BEGIN:VEVENT
DTSTART;TZID=America/Halifax:20260514T190000
DTEND;TZID=America/Halifax:20260514T210000
DTSTAMP:20260423T212220
CREATED:20260408T201752Z
LAST-MODIFIED:20260408T201752Z
UID:5399-1778785200-1778792400@ralphsextonministries.com
SUMMARY:Prayer Meeting in the Barn Piney Flats\, TN
DESCRIPTION:Prayer Meeting in the Barn Piney Flats\, TN \nMountain Crusade Tent Site \n4630 Bristol Hwy. Piney Flats\, TN 37686 \nService Times 7:00 PM
URL:https://ralphsextonministries.com/event/prayer-meeting-in-the-barn-piney-flats-tn-2/
LOCATION:Mountain Crusade Tent Site\, 4630 Bristol Highway\, Piney Flats\, TN\, 37686\, United States
CATEGORIES:Prayer,Prophecy Conference,Special Meeting
END:VEVENT
BEGIN:VEVENT
DTSTART;VALUE=DATE:20260517
DTEND;VALUE=DATE:20260518
DTSTAMP:20260423T212220
CREATED:20260408T204939Z
LAST-MODIFIED:20260408T204939Z
UID:5413-1778976000-1779062399@ralphsextonministries.com
SUMMARY:Central Baptist Church Mountain City\, TN
DESCRIPTION:Central Baptist Church Mountain City\, TN \nService times: 11:00 AM and 6:00 PM
URL:https://ralphsextonministries.com/event/central-baptist-church-mountain-city-tn/
LOCATION:Central Baptist – Mountain City\, TN\, 2430 S Shady Street\, Mountain City\, TN\, 37683\, United States
CATEGORIES:Church Service
END:VEVENT
BEGIN:VEVENT
DTSTART;TZID=America/Halifax:20260520T000000
DTEND;TZID=America/Halifax:20260601T235900
DTSTAMP:20260423T212220
CREATED:20260114T171312Z
LAST-MODIFIED:20260402T185131Z
UID:5316-1779235200-1780358340@ralphsextonministries.com
SUMMARY:Journeys of Paul - Summer 2026
DESCRIPTION:
URL:https://ralphsextonministries.com/event/journeys-of-paul-summer-2026/
LOCATION:TN
CATEGORIES:International Travel
END:VEVENT
BEGIN:VEVENT
DTSTART;TZID=America/Halifax:20260606T080000
DTEND;TZID=America/Halifax:20260606T150000
DTSTAMP:20260423T212220
CREATED:20260408T202943Z
LAST-MODIFIED:20260408T202943Z
UID:5402-1780732800-1780758000@ralphsextonministries.com
SUMMARY:Land of the Sky Tent Meeting Work Day Candler\, NC
DESCRIPTION:Land of the Sky Tent Meeting Work Day \nHominy Valley Singing Grounds \n1430 NC 151 Candler\, NC 28715 \nWork Time 8:00-3:00pm \nJoin us as we raise the big Gospel tent! We’re looking for around 100 able-bodied volunteers to help us get everything set up. Come be a part of something special as we prepare for what the Lord is going to do in our community. We’d love to have you there!
URL:https://ralphsextonministries.com/event/land-of-the-sky-tent-meeting-work-day-candler-nc/
LOCATION:Hominy Valley Singing Grounds\, 1430 NC 151\, Candler\, NC\, 28715\, United States
CATEGORIES:Tent Meeting
END:VEVENT
BEGIN:VEVENT
DTSTART;TZID=America/Halifax:20260614T170000
DTEND;TZID=America/Halifax:20260614T190000
DTSTAMP:20260423T212220
CREATED:20260408T203217Z
LAST-MODIFIED:20260408T203217Z
UID:5407-1781456400-1781463600@ralphsextonministries.com
SUMMARY:Land of the Sky Tent Meeting Rally Service Candler\, NC
DESCRIPTION:Land of the Sky Tent Meeting Rally Service \nHominy Valley Singing Grounds \n1430 NC 151 Candler\, NC 28715 \nService Time 5:00 PM
URL:https://ralphsextonministries.com/event/land-of-the-sky-tent-meeting-rally-service-candler-nc/
LOCATION:Hominy Valley Singing Grounds\, 1430 NC 151\, Candler\, NC\, 28715\, United States
CATEGORIES:Tent Meeting
END:VEVENT
BEGIN:VEVENT
DTSTART;TZID=America/Halifax:20260615T190000
DTEND;TZID=America/Halifax:20260626T190000
DTSTAMP:20260423T212220
CREATED:20260408T203805Z
LAST-MODIFIED:20260408T203805Z
UID:5410-1781550000-1782500400@ralphsextonministries.com
SUMMARY:Land of the Sky Tent Meeting Candler\, NC
DESCRIPTION:Land of the Sky Tent Meeting \nHominy Valley Singing Grounds \n1430 NC 151 Candler\, NC 28715 \nService Times:  June 15-26\, 2026 7:00 PM
URL:https://ralphsextonministries.com/event/land-of-the-sky-tent-meeting-candler-nc/
LOCATION:Hominy Valley Singing Grounds\, 1430 NC 151\, Candler\, NC\, 28715\, United States
CATEGORIES:Tent Meeting
END:VEVENT
BEGIN:VEVENT
DTSTART;VALUE=DATE:20260720
DTEND;VALUE=DATE:20260725
DTSTAMP:20260423T212220
CREATED:20260114T170108Z
LAST-MODIFIED:20260114T170108Z
UID:5301-1784505600-1784937599@ralphsextonministries.com
SUMMARY:Arise Youth Conference
DESCRIPTION:
URL:https://ralphsextonministries.com/event/arise-youth-conference-4/
LOCATION:TN
CATEGORIES:Church Service
END:VEVENT
BEGIN:VEVENT
DTSTART;VALUE=DATE:20260729
DTEND;VALUE=DATE:20260803
DTSTAMP:20260423T212220
CREATED:20260114T170319Z
LAST-MODIFIED:20260114T170323Z
UID:5304-1785283200-1785715199@ralphsextonministries.com
SUMMARY:57th Land of Sky Jubilee
DESCRIPTION:
URL:https://ralphsextonministries.com/event/57th-land-of-sky-jubilee/
LOCATION:Trinity Baptist Church-AVL\, 216 Shelburne Road\, Asheville\, NC\, 28806\, United States
CATEGORIES:Church Service,Revivals
END:VEVENT
BEGIN:VEVENT
DTSTART;VALUE=DATE:20260923
DTEND;VALUE=DATE:20261003
DTSTAMP:20260423T212220
CREATED:20260114T171030Z
LAST-MODIFIED:20260114T171044Z
UID:5311-1790121600-1790985599@ralphsextonministries.com
SUMMARY:Israel Fall 2026 Tour
DESCRIPTION:
URL:https://ralphsextonministries.com/event/israel-fall-2026-tour/
LOCATION:TN
CATEGORIES:Church Service,International Travel,Stand with Israel
END:VEVENT
END:VCALENDAR