BEGIN:VCALENDAR
VERSION:2.0
PRODID:-//Ralph Sexton Ministries - ECPv6.15.13//NONSGML v1.0//EN
CALSCALE:GREGORIAN
METHOD:PUBLISH
X-ORIGINAL-URL:https://ralphsextonministries.com
X-WR-CALDESC:Events for Ralph Sexton Ministries
REFRESH-INTERVAL;VALUE=DURATION:PT1H
X-Robots-Tag:noindex
X-PUBLISHED-TTL:PT1H
BEGIN:VTIMEZONE
TZID:America/New_York
BEGIN:DAYLIGHT
TZOFFSETFROM:-0500
TZOFFSETTO:-0400
TZNAME:EDT
DTSTART:20240310T070000
END:DAYLIGHT
BEGIN:STANDARD
TZOFFSETFROM:-0400
TZOFFSETTO:-0500
TZNAME:EST
DTSTART:20241103T060000
END:STANDARD
BEGIN:DAYLIGHT
TZOFFSETFROM:-0500
TZOFFSETTO:-0400
TZNAME:EDT
DTSTART:20250309T070000
END:DAYLIGHT
BEGIN:STANDARD
TZOFFSETFROM:-0400
TZOFFSETTO:-0500
TZNAME:EST
DTSTART:20251102T060000
END:STANDARD
BEGIN:DAYLIGHT
TZOFFSETFROM:-0500
TZOFFSETTO:-0400
TZNAME:EDT
DTSTART:20260308T070000
END:DAYLIGHT
BEGIN:STANDARD
TZOFFSETFROM:-0400
TZOFFSETTO:-0500
TZNAME:EST
DTSTART:20261101T060000
END:STANDARD
END:VTIMEZONE
BEGIN:VTIMEZONE
TZID:America/Halifax
BEGIN:DAYLIGHT
TZOFFSETFROM:-0400
TZOFFSETTO:-0300
TZNAME:ADT
DTSTART:20220313T060000
END:DAYLIGHT
BEGIN:STANDARD
TZOFFSETFROM:-0300
TZOFFSETTO:-0400
TZNAME:AST
DTSTART:20221106T050000
END:STANDARD
BEGIN:DAYLIGHT
TZOFFSETFROM:-0400
TZOFFSETTO:-0300
TZNAME:ADT
DTSTART:20230312T060000
END:DAYLIGHT
BEGIN:STANDARD
TZOFFSETFROM:-0300
TZOFFSETTO:-0400
TZNAME:AST
DTSTART:20231105T050000
END:STANDARD
BEGIN:DAYLIGHT
TZOFFSETFROM:-0400
TZOFFSETTO:-0300
TZNAME:ADT
DTSTART:20240310T060000
END:DAYLIGHT
BEGIN:STANDARD
TZOFFSETFROM:-0300
TZOFFSETTO:-0400
TZNAME:AST
DTSTART:20241103T050000
END:STANDARD
BEGIN:DAYLIGHT
TZOFFSETFROM:-0400
TZOFFSETTO:-0300
TZNAME:ADT
DTSTART:20250309T060000
END:DAYLIGHT
BEGIN:STANDARD
TZOFFSETFROM:-0300
TZOFFSETTO:-0400
TZNAME:AST
DTSTART:20251102T050000
END:STANDARD
END:VTIMEZONE
BEGIN:VTIMEZONE
TZID:UTC
BEGIN:STANDARD
TZOFFSETFROM:+0000
TZOFFSETTO:+0000
TZNAME:UTC
DTSTART:20210101T000000
END:STANDARD
END:VTIMEZONE
BEGIN:VEVENT
DTSTART;TZID=America/New_York:20250903T100000
DTEND;TZID=America/New_York:20250903T120000
DTSTAMP:20260423T190049
CREATED:20250717T173433Z
LAST-MODIFIED:20250717T173433Z
UID:5001-1756893600-1756900800@ralphsextonministries.com
SUMMARY:Heritage Keepers
DESCRIPTION:
URL:https://ralphsextonministries.com/event/heritage-keepers-30/
LOCATION:Trinity Baptist Church-AVL\, 216 Shelburne Road\, Asheville\, NC\, 28806\, United States
CATEGORIES:Weekly Bible Study
END:VEVENT
BEGIN:VEVENT
DTSTART;TZID=America/New_York:20250827T100000
DTEND;TZID=America/New_York:20250827T120000
DTSTAMP:20260423T190049
CREATED:20250717T173346Z
LAST-MODIFIED:20250717T173346Z
UID:4998-1756288800-1756296000@ralphsextonministries.com
SUMMARY:Heritage Keepers
DESCRIPTION:
URL:https://ralphsextonministries.com/event/heritage-keepers-29/
LOCATION:Trinity Baptist Church-AVL\, 216 Shelburne Road\, Asheville\, NC\, 28806\, United States
CATEGORIES:Weekly Bible Study
END:VEVENT
BEGIN:VEVENT
DTSTART;TZID=America/New_York:20250820T100000
DTEND;TZID=America/New_York:20250820T120000
DTSTAMP:20260423T190049
CREATED:20250717T173334Z
LAST-MODIFIED:20250717T173334Z
UID:4995-1755684000-1755691200@ralphsextonministries.com
SUMMARY:Heritage Keepers
DESCRIPTION:
URL:https://ralphsextonministries.com/event/heritage-keepers-28/
LOCATION:Trinity Baptist Church-AVL\, 216 Shelburne Road\, Asheville\, NC\, 28806\, United States
CATEGORIES:Weekly Bible Study
END:VEVENT
BEGIN:VEVENT
DTSTART;TZID=America/New_York:20250813T100000
DTEND;TZID=America/New_York:20250813T120000
DTSTAMP:20260423T190049
CREATED:20250717T173321Z
LAST-MODIFIED:20250717T173321Z
UID:4992-1755079200-1755086400@ralphsextonministries.com
SUMMARY:Heritage Keepers
DESCRIPTION:
URL:https://ralphsextonministries.com/event/heritage-keepers-27/
LOCATION:Trinity Baptist Church-AVL\, 216 Shelburne Road\, Asheville\, NC\, 28806\, United States
CATEGORIES:Weekly Bible Study
END:VEVENT
BEGIN:VEVENT
DTSTART;TZID=America/New_York:20250806T100000
DTEND;TZID=America/New_York:20250806T120000
DTSTAMP:20260423T190049
CREATED:20250717T173244Z
LAST-MODIFIED:20250717T173244Z
UID:4990-1754474400-1754481600@ralphsextonministries.com
SUMMARY:Heritage Keepers
DESCRIPTION:
URL:https://ralphsextonministries.com/event/heritage-keepers-26/
LOCATION:Trinity Baptist Church-AVL\, 216 Shelburne Road\, Asheville\, NC\, 28806\, United States
CATEGORIES:Weekly Bible Study
END:VEVENT
BEGIN:VEVENT
DTSTART;TZID=America/New_York:20250730T100000
DTEND;TZID=America/New_York:20250730T120000
DTSTAMP:20260423T190049
CREATED:20250717T173159Z
LAST-MODIFIED:20250717T173159Z
UID:4987-1753869600-1753876800@ralphsextonministries.com
SUMMARY:Heritage Keepers
DESCRIPTION:
URL:https://ralphsextonministries.com/event/heritage-keepers-25/
LOCATION:Trinity Baptist Church-AVL\, 216 Shelburne Road\, Asheville\, NC\, 28806\, United States
CATEGORIES:Weekly Bible Study
END:VEVENT
BEGIN:VEVENT
DTSTART;TZID=America/New_York:20250618T100000
DTEND;TZID=America/New_York:20250618T120000
DTSTAMP:20260423T190049
CREATED:20250521T130745Z
LAST-MODIFIED:20250521T130745Z
UID:4779-1750240800-1750248000@ralphsextonministries.com
SUMMARY:Heritage Keepers
DESCRIPTION:
URL:https://ralphsextonministries.com/event/heritage-keepers-24/
LOCATION:Trinity Baptist Church-AVL\, 216 Shelburne Road\, Asheville\, NC\, 28806\, United States
CATEGORIES:Weekly Bible Study
END:VEVENT
BEGIN:VEVENT
DTSTART;TZID=America/New_York:20250604T100000
DTEND;TZID=America/New_York:20250604T120000
DTSTAMP:20260423T190049
CREATED:20250521T130723Z
LAST-MODIFIED:20250521T130723Z
UID:4776-1749031200-1749038400@ralphsextonministries.com
SUMMARY:Heritage Keepers
DESCRIPTION:
URL:https://ralphsextonministries.com/event/heritage-keepers-23/
LOCATION:Trinity Baptist Church-AVL\, 216 Shelburne Road\, Asheville\, NC\, 28806\, United States
CATEGORIES:Weekly Bible Study
END:VEVENT
BEGIN:VEVENT
DTSTART;TZID=America/New_York:20250528T100000
DTEND;TZID=America/New_York:20250528T120000
DTSTAMP:20260423T190049
CREATED:20250521T130546Z
LAST-MODIFIED:20250521T130546Z
UID:4769-1748426400-1748433600@ralphsextonministries.com
SUMMARY:Heritage Keepers
DESCRIPTION:
URL:https://ralphsextonministries.com/event/heritage-keepers-22/
LOCATION:Trinity Baptist Church-AVL\, 216 Shelburne Road\, Asheville\, NC\, 28806\, United States
CATEGORIES:Weekly Bible Study
END:VEVENT
BEGIN:VEVENT
DTSTART;TZID=America/New_York:20250521T100000
DTEND;TZID=America/New_York:20250521T120000
DTSTAMP:20260423T190049
CREATED:20250520T203721Z
LAST-MODIFIED:20250520T203721Z
UID:4741-1747821600-1747828800@ralphsextonministries.com
SUMMARY:Heritage Keepers
DESCRIPTION:
URL:https://ralphsextonministries.com/event/heritage-keepers-21/
LOCATION:Trinity Baptist Church-AVL\, 216 Shelburne Road\, Asheville\, NC\, 28806\, United States
CATEGORIES:Weekly Bible Study
END:VEVENT
BEGIN:VEVENT
DTSTART;TZID=America/Halifax:20240124T100000
DTEND;TZID=America/Halifax:20240124T120000
DTSTAMP:20260423T190049
CREATED:20240114T173207Z
LAST-MODIFIED:20240114T173207Z
UID:3829-1706090400-1706097600@ralphsextonministries.com
SUMMARY:Heritage Keepers
DESCRIPTION:Join us for weekly morning Bible study followed by fellowship and lunch.
URL:https://ralphsextonministries.com/event/heritage-keepers-20/
LOCATION:Trinity Baptist Church-AVL\, 216 Shelburne Road\, Asheville\, NC\, 28806\, United States
CATEGORIES:Weekly Bible Study
END:VEVENT
BEGIN:VEVENT
DTSTART;TZID=America/Halifax:20240117T100000
DTEND;TZID=America/Halifax:20240117T120000
DTSTAMP:20260423T190049
CREATED:20240114T171642Z
LAST-MODIFIED:20240114T171642Z
UID:3820-1705485600-1705492800@ralphsextonministries.com
SUMMARY:Heritage Keepers
DESCRIPTION:Join us for a time of study in God’s Word.  Lunch and fellowship will follow!
URL:https://ralphsextonministries.com/event/heritage-keepers-19/
LOCATION:Trinity Baptist Church-AVL\, 216 Shelburne Road\, Asheville\, NC\, 28806\, United States
CATEGORIES:Weekly Bible Study
END:VEVENT
BEGIN:VEVENT
DTSTART;TZID=America/Halifax:20240110T100000
DTEND;TZID=America/Halifax:20240110T120000
DTSTAMP:20260423T190049
CREATED:20240106T211229Z
LAST-MODIFIED:20240106T211349Z
UID:3814-1704880800-1704888000@ralphsextonministries.com
SUMMARY:Heritage Keepers
DESCRIPTION:Join us at 10:00 a.m. for a time of study in God’s Word.  We’ll enjoy fellowship and lunch together after Bible study.
URL:https://ralphsextonministries.com/event/heritage-keepers-18/
LOCATION:Trinity Baptist Church-AVL\, 216 Shelburne Road\, Asheville\, NC\, 28806\, United States
CATEGORIES:Weekly Bible Study
END:VEVENT
BEGIN:VEVENT
DTSTART;TZID=America/Halifax:20231213T100000
DTEND;TZID=America/Halifax:20231213T120000
DTSTAMP:20260423T190049
CREATED:20231209T165231Z
LAST-MODIFIED:20231209T165231Z
UID:3802-1702461600-1702468800@ralphsextonministries.com
SUMMARY:Heritage Keepers
DESCRIPTION:Join us for our weekly Bible studey forllowed by fellowship and lunhc.
URL:https://ralphsextonministries.com/event/heritage-keepers-17/
LOCATION:Trinity Baptist Church-AVL\, 216 Shelburne Road\, Asheville\, NC\, 28806\, United States
CATEGORIES:Weekly Bible Study
END:VEVENT
BEGIN:VEVENT
DTSTART;TZID=America/Halifax:20231206T100000
DTEND;TZID=America/Halifax:20231206T120000
DTSTAMP:20260423T190049
CREATED:20231201T052203Z
LAST-MODIFIED:20231201T052203Z
UID:3793-1701856800-1701864000@ralphsextonministries.com
SUMMARY:Heritage Keepers
DESCRIPTION:Join us for our weekly time together in God’s Word.  We’ll meet for a time of prayer and study followed by lunch afterward.
URL:https://ralphsextonministries.com/event/heritage-keepers-16/
LOCATION:Trinity Baptist Church-AVL\, 216 Shelburne Road\, Asheville\, NC\, 28806\, United States
CATEGORIES:Weekly Bible Study
END:VEVENT
BEGIN:VEVENT
DTSTART;TZID=America/Halifax:20231129T100000
DTEND;TZID=America/Halifax:20231129T120000
DTSTAMP:20260423T190049
CREATED:20231126T011131Z
LAST-MODIFIED:20231126T011131Z
UID:3770-1701252000-1701259200@ralphsextonministries.com
SUMMARY:Heritage Keepers
DESCRIPTION:Join us for our weekly Bible study and fellowship time together. This midweek refreshing is always such a bright spot in the week\, and we enjoy our time studying God’s Word together!  We’ll enjoy lunch after our Bible study.
URL:https://ralphsextonministries.com/event/heritage-keepers-15/
LOCATION:Trinity Baptist Church-AVL\, 216 Shelburne Road\, Asheville\, NC\, 28806\, United States
CATEGORIES:Weekly Bible Study
END:VEVENT
BEGIN:VEVENT
DTSTART;TZID=America/Halifax:20231115T100000
DTEND;TZID=America/Halifax:20231115T120000
DTSTAMP:20260423T190049
CREATED:20231110T172753Z
LAST-MODIFIED:20231110T172753Z
UID:3720-1700042400-1700049600@ralphsextonministries.com
SUMMARY:Heritage Keepers
DESCRIPTION:Join us for our weekly Bible study and fellowship!
URL:https://ralphsextonministries.com/event/heritage-keepers-14/
LOCATION:NC
CATEGORIES:Weekly Bible Study
END:VEVENT
BEGIN:VEVENT
DTSTART;VALUE=DATE:20230830
DTEND;VALUE=DATE:20230831
DTSTAMP:20260423T190049
CREATED:20230815T031507Z
LAST-MODIFIED:20230815T031507Z
UID:3549-1693353600-1693439999@ralphsextonministries.com
SUMMARY:Heritage Keepers "Field Trip"
DESCRIPTION:Pastor Winston and I are taking the Heritage Keepers to enjoy some great  Southern Gospel Music in Pigeon Forge\, TN.
URL:https://ralphsextonministries.com/event/heritage-keepers-field-trip/
LOCATION:Pigeon Forge\, TN
CATEGORIES:Weekly Bible Study
END:VEVENT
BEGIN:VEVENT
DTSTART;TZID=America/Halifax:20230823T100000
DTEND;TZID=America/Halifax:20230823T120000
DTSTAMP:20260423T190049
CREATED:20230815T030635Z
LAST-MODIFIED:20230815T030635Z
UID:3537-1692784800-1692792000@ralphsextonministries.com
SUMMARY:Heritage Keepers
DESCRIPTION:Meet with us at 10:00 a.m. and enjoy a time of study in God’s Word followed by fellowship and lunch.
URL:https://ralphsextonministries.com/event/heritage-keepers-13/
LOCATION:Trinity Baptist Church-AVL\, 216 Shelburne Road\, Asheville\, NC\, 28806\, United States
CATEGORIES:Weekly Bible Study
END:VEVENT
BEGIN:VEVENT
DTSTART;TZID=America/Halifax:20230816T100000
DTEND;TZID=America/Halifax:20230816T120000
DTSTAMP:20260423T190049
CREATED:20230810T041427Z
LAST-MODIFIED:20230810T041427Z
UID:3465-1692180000-1692187200@ralphsextonministries.com
SUMMARY:Heritage Keepers
DESCRIPTION:Join us for Bible study and lunch at Trinity Baptist in Asheville\, NC.
URL:https://ralphsextonministries.com/event/heritage-keepers-12/
LOCATION:Trinity Baptist Church-AVL\, 216 Shelburne Road\, Asheville\, NC\, 28806\, United States
CATEGORIES:Weekly Bible Study
END:VEVENT
BEGIN:VEVENT
DTSTART;TZID=America/Halifax:20230809T100000
DTEND;TZID=America/Halifax:20230809T120000
DTSTAMP:20260423T190049
CREATED:20230806T120229Z
LAST-MODIFIED:20230806T120229Z
UID:3436-1691575200-1691582400@ralphsextonministries.com
SUMMARY:Heritage Keepers
DESCRIPTION:Weekly Bible Study\nTrinity Baptist\nAsheville\, NC
URL:https://ralphsextonministries.com/event/heritage-keepers-11/
LOCATION:Trinity Baptist Church-AVL\, 216 Shelburne Road\, Asheville\, NC\, 28806\, United States
CATEGORIES:Weekly Bible Study
END:VEVENT
BEGIN:VEVENT
DTSTART;TZID=America/Halifax:20230719T100000
DTEND;TZID=America/Halifax:20230719T120000
DTSTAMP:20260423T190049
CREATED:20230717T234812Z
LAST-MODIFIED:20230717T234812Z
UID:3386-1689760800-1689768000@ralphsextonministries.com
SUMMARY:Heritage Keepers
DESCRIPTION:Join us for a time of study and fellowship.
URL:https://ralphsextonministries.com/event/heritage-keepers-10/
LOCATION:Trinity Baptist Church-AVL\, 216 Shelburne Road\, Asheville\, NC\, 28806\, United States
CATEGORIES:Weekly Bible Study
END:VEVENT
BEGIN:VEVENT
DTSTART;TZID=UTC:20230621T100000
DTEND;TZID=UTC:20230621T120000
DTSTAMP:20260423T190049
CREATED:20230610T183717Z
LAST-MODIFIED:20230610T183717Z
UID:3294-1687341600-1687348800@ralphsextonministries.com
SUMMARY:Heritage Keepers
DESCRIPTION:Join us for an engaging Bible study followed by fellowship and lunch.
URL:https://ralphsextonministries.com/event/heritage-keepers-9/
LOCATION:Trinity Baptist Church-AVL\, 216 Shelburne Road\, Asheville\, NC\, 28806\, United States
CATEGORIES:Weekly Bible Study
END:VEVENT
BEGIN:VEVENT
DTSTART;TZID=UTC:20230614T100000
DTEND;TZID=UTC:20230614T120000
DTSTAMP:20260423T190049
CREATED:20230610T183539Z
LAST-MODIFIED:20230610T183539Z
UID:3290-1686736800-1686744000@ralphsextonministries.com
SUMMARY:Heritage Keepers
DESCRIPTION:Join us for an engaging Bible study followed by a fellowship lunch.
URL:https://ralphsextonministries.com/event/heritage-keepers-8/
LOCATION:Trinity Baptist Church-AVL\, 216 Shelburne Road\, Asheville\, NC\, 28806\, United States
CATEGORIES:Weekly Bible Study
END:VEVENT
BEGIN:VEVENT
DTSTART;TZID=UTC:20230524T100000
DTEND;TZID=UTC:20230524T120000
DTSTAMP:20260423T190049
CREATED:20230501T074938Z
LAST-MODIFIED:20230501T074938Z
UID:3266-1684922400-1684929600@ralphsextonministries.com
SUMMARY:Heritage Keepers
DESCRIPTION:Join us as we continue our 10:00 a.m. Bible study and fellowship lunch afterward.
URL:https://ralphsextonministries.com/event/heritage-keepers-6/
LOCATION:Trinity Baptist Church-AVL\, 216 Shelburne Road\, Asheville\, NC\, 28806\, United States
CATEGORIES:Weekly Bible Study
END:VEVENT
BEGIN:VEVENT
DTSTART;TZID=UTC:20230503T100000
DTEND;TZID=UTC:20230503T120000
DTSTAMP:20260423T190049
CREATED:20230501T073750Z
LAST-MODIFIED:20230501T073750Z
UID:3255-1683108000-1683115200@ralphsextonministries.com
SUMMARY:Heritage Keepers
DESCRIPTION:Join us as we continue our 10:00 a.m. Bible study and fellowship lunch afterward.
URL:https://ralphsextonministries.com/event/heritage-keepers-5/
LOCATION:Trinity Baptist Church-AVL\, 216 Shelburne Road\, Asheville\, NC\, 28806\, United States
CATEGORIES:Weekly Bible Study
END:VEVENT
BEGIN:VEVENT
DTSTART;TZID=UTC:20230215T100000
DTEND;TZID=UTC:20230215T100000
DTSTAMP:20260423T190049
CREATED:20230203T021529Z
LAST-MODIFIED:20230212T080023Z
UID:3121-1676455200-1676455200@ralphsextonministries.com
SUMMARY:Heritage Keepers - TBC
DESCRIPTION:Trinity Baptist Church\nPastor Winston Parrish \n216 Shelburne Road\nAsheville\, NC 28806 \nService at 10:00 AM\nLunch at 12:00 PM
URL:https://ralphsextonministries.com/event/heritage-keepers-bible-study/
LOCATION:Trinity Baptist Church-AVL\, 216 Shelburne Road\, Asheville\, NC\, 28806\, United States
CATEGORIES:Weekly Bible Study
END:VEVENT
BEGIN:VEVENT
DTSTART;TZID=UTC:20230125T100000
DTEND;TZID=UTC:20230125T120000
DTSTAMP:20260423T190049
CREATED:20230108T074104Z
LAST-MODIFIED:20230108T074104Z
UID:3064-1674640800-1674648000@ralphsextonministries.com
SUMMARY:Heritage Keepers
DESCRIPTION:Join our midweek Bible study and fellowship lunch at noon.
URL:https://ralphsextonministries.com/event/heritage-keepers-4/
LOCATION:Trinity Baptist Church-AVL\, 216 Shelburne Road\, Asheville\, NC\, 28806\, United States
CATEGORIES:Weekly Bible Study
END:VEVENT
BEGIN:VEVENT
DTSTART;TZID=UTC:20230118T100000
DTEND;TZID=UTC:20230118T120000
DTSTAMP:20260423T190049
CREATED:20230108T073105Z
LAST-MODIFIED:20230108T073105Z
UID:3053-1674036000-1674043200@ralphsextonministries.com
SUMMARY:Heritage Keepers
DESCRIPTION:Join us for mid-week Bible study followed by lunch fellowship.
URL:https://ralphsextonministries.com/event/heritage-keepers-3/
LOCATION:Trinity Baptist Church-AVL\, 216 Shelburne Road\, Asheville\, NC\, 28806\, United States
CATEGORIES:Weekly Bible Study
END:VEVENT
BEGIN:VEVENT
DTSTART;TZID=UTC:20221012T100000
DTEND;TZID=UTC:20221012T100000
DTSTAMP:20260423T190049
CREATED:20221006T222636Z
LAST-MODIFIED:20230212T075556Z
UID:2940-1665568800-1665568800@ralphsextonministries.com
SUMMARY:Heritage Keepers - TBC
DESCRIPTION:Trinity Baptist Church\nPastor Winston Parrish \n216 Shelburne Road\nAsheville\, NC 28806 \nService at 10:00 AM\nLunch at 12:00 PM
URL:https://ralphsextonministries.com/event/heritage-keepers-2/
LOCATION:Trinity Baptist Church-AVL\, 216 Shelburne Road\, Asheville\, NC\, 28806\, United States
CATEGORIES:Weekly Bible Study
END:VEVENT
END:VCALENDAR