BEGIN:VCALENDAR
VERSION:2.0
PRODID:-//Ralph Sexton Ministries - ECPv6.15.13//NONSGML v1.0//EN
CALSCALE:GREGORIAN
METHOD:PUBLISH
X-ORIGINAL-URL:https://ralphsextonministries.com
X-WR-CALDESC:Events for Ralph Sexton Ministries
REFRESH-INTERVAL;VALUE=DURATION:PT1H
X-Robots-Tag:noindex
X-PUBLISHED-TTL:PT1H
BEGIN:VTIMEZONE
TZID:UTC
BEGIN:STANDARD
TZOFFSETFROM:+0000
TZOFFSETTO:+0000
TZNAME:UTC
DTSTART:20220101T000000
END:STANDARD
END:VTIMEZONE
BEGIN:VEVENT
DTSTART;VALUE=DATE:20230611
DTEND;VALUE=DATE:20230612
DTSTAMP:20260423T145952
CREATED:20230610T081106Z
LAST-MODIFIED:20230610T201528Z
UID:3278-1686441600-1686527999@ralphsextonministries.com
SUMMARY:Prophecy Update
DESCRIPTION:Join us at 10:00 a.m. for a Prophecy Updated followed by 11:00 a.m. service and 6:00 p.m. evening service.
URL:https://ralphsextonministries.com/event/new-life-baptist/
LOCATION:New Life Baptist Church\, 1100 E. Fairfield Rd.\, Highpoint\, NC\, 27263\, United States
CATEGORIES:Church Service,Prophecy Conference
END:VEVENT
BEGIN:VEVENT
DTSTART;VALUE=DATE:20230219
DTEND;VALUE=DATE:20230222
DTSTAMP:20260423T145952
CREATED:20230212T075030Z
LAST-MODIFIED:20230212T075030Z
UID:3135-1676764800-1677023999@ralphsextonministries.com
SUMMARY:Northside Baptist Church
DESCRIPTION:Northside Baptist Church\nPastor Shad Smith \n120 Northside Church Road\nDallas\, GA 30132 \nFebruary 19 – 6:00 PM\nFebruary 20-21 – 7:00 PM nightly
URL:https://ralphsextonministries.com/event/northside-baptist-church/
LOCATION:Northside Baptist Church\, 120 Northside Church Road\, Dallas\, GA\, 30132\, United States
CATEGORIES:Church Service,Prophecy Conference,Revivals
END:VEVENT
BEGIN:VEVENT
DTSTART;TZID=UTC:20230108T190000
DTEND;TZID=UTC:20230110T170000
DTSTAMP:20260423T145952
CREATED:20221113T040257Z
LAST-MODIFIED:20221113T040257Z
UID:3025-1673204400-1673370000@ralphsextonministries.com
SUMMARY:Unity Baptist Church
DESCRIPTION:Pastor Ronnie Barfield
URL:https://ralphsextonministries.com/event/unity-baptist-church/
LOCATION:Unity Baptist Church\, 220 Co Rd 457\, Ripley\, MS\, 38663\, United States
CATEGORIES:Church Service,Prophecy Conference
END:VEVENT
END:VCALENDAR