BEGIN:VCALENDAR
VERSION:2.0
PRODID:-//Ralph Sexton Ministries - ECPv6.15.13//NONSGML v1.0//EN
CALSCALE:GREGORIAN
METHOD:PUBLISH
X-ORIGINAL-URL:https://ralphsextonministries.com
X-WR-CALDESC:Events for Ralph Sexton Ministries
REFRESH-INTERVAL;VALUE=DURATION:PT1H
X-Robots-Tag:noindex
X-PUBLISHED-TTL:PT1H
BEGIN:VTIMEZONE
TZID:America/Halifax
BEGIN:DAYLIGHT
TZOFFSETFROM:-0400
TZOFFSETTO:-0300
TZNAME:ADT
DTSTART:20230312T060000
END:DAYLIGHT
BEGIN:STANDARD
TZOFFSETFROM:-0300
TZOFFSETTO:-0400
TZNAME:AST
DTSTART:20231105T050000
END:STANDARD
BEGIN:DAYLIGHT
TZOFFSETFROM:-0400
TZOFFSETTO:-0300
TZNAME:ADT
DTSTART:20240310T060000
END:DAYLIGHT
BEGIN:STANDARD
TZOFFSETFROM:-0300
TZOFFSETTO:-0400
TZNAME:AST
DTSTART:20241103T050000
END:STANDARD
BEGIN:DAYLIGHT
TZOFFSETFROM:-0400
TZOFFSETTO:-0300
TZNAME:ADT
DTSTART:20250309T060000
END:DAYLIGHT
BEGIN:STANDARD
TZOFFSETFROM:-0300
TZOFFSETTO:-0400
TZNAME:AST
DTSTART:20251102T050000
END:STANDARD
BEGIN:DAYLIGHT
TZOFFSETFROM:-0400
TZOFFSETTO:-0300
TZNAME:ADT
DTSTART:20260308T060000
END:DAYLIGHT
BEGIN:STANDARD
TZOFFSETFROM:-0300
TZOFFSETTO:-0400
TZNAME:AST
DTSTART:20261101T050000
END:STANDARD
END:VTIMEZONE
BEGIN:VTIMEZONE
TZID:America/Chicago
BEGIN:DAYLIGHT
TZOFFSETFROM:-0600
TZOFFSETTO:-0500
TZNAME:CDT
DTSTART:20230312T080000
END:DAYLIGHT
BEGIN:STANDARD
TZOFFSETFROM:-0500
TZOFFSETTO:-0600
TZNAME:CST
DTSTART:20231105T070000
END:STANDARD
BEGIN:DAYLIGHT
TZOFFSETFROM:-0600
TZOFFSETTO:-0500
TZNAME:CDT
DTSTART:20240310T080000
END:DAYLIGHT
BEGIN:STANDARD
TZOFFSETFROM:-0500
TZOFFSETTO:-0600
TZNAME:CST
DTSTART:20241103T070000
END:STANDARD
BEGIN:DAYLIGHT
TZOFFSETFROM:-0600
TZOFFSETTO:-0500
TZNAME:CDT
DTSTART:20250309T080000
END:DAYLIGHT
BEGIN:STANDARD
TZOFFSETFROM:-0500
TZOFFSETTO:-0600
TZNAME:CST
DTSTART:20251102T070000
END:STANDARD
END:VTIMEZONE
BEGIN:VEVENT
DTSTART;VALUE=DATE:20250803
DTEND;VALUE=DATE:20250804
DTSTAMP:20260423T145952
CREATED:20250717T175016Z
LAST-MODIFIED:20250717T175016Z
UID:5061-1754179200-1754265599@ralphsextonministries.com
SUMMARY:Turning Point Baptist Church
DESCRIPTION:11 AM and 6 PM
URL:https://ralphsextonministries.com/event/turning-point-baptist-church/
LOCATION:Turning Point Baptist Church\, Winder\, GA\, United States
CATEGORIES:Church Service
END:VEVENT
BEGIN:VEVENT
DTSTART;VALUE=DATE:20250731
DTEND;VALUE=DATE:20250801
DTSTAMP:20260423T145952
CREATED:20250717T174806Z
LAST-MODIFIED:20250717T174806Z
UID:5057-1753920000-1754006399@ralphsextonministries.com
SUMMARY:Victory Baptist Church
DESCRIPTION:
URL:https://ralphsextonministries.com/event/victory-baptist-church/
LOCATION:Victory Baptist Church – Valdosta\, GA\, Valdosta\, GA\, United States
CATEGORIES:Church Service
END:VEVENT
BEGIN:VEVENT
DTSTART;TZID=America/Halifax:20250720T180000
DTEND;TZID=America/Halifax:20250720T190000
DTSTAMP:20260423T145952
CREATED:20250717T174603Z
LAST-MODIFIED:20250717T174603Z
UID:5051-1753034400-1753038000@ralphsextonministries.com
SUMMARY:Temple Baptist Church
DESCRIPTION:
URL:https://ralphsextonministries.com/event/temple-baptist-church/
LOCATION:Temple Baptist – Mt. Airy\, 3615 Rockford Street\, Mt Airy\, NC\, 27030\, United States
CATEGORIES:Church Service
END:VEVENT
BEGIN:VEVENT
DTSTART;TZID=America/Halifax:20250720T110000
DTEND;TZID=America/Halifax:20250720T120000
DTSTAMP:20260423T145952
CREATED:20250717T174510Z
LAST-MODIFIED:20250717T174510Z
UID:5047-1753009200-1753012800@ralphsextonministries.com
SUMMARY:Emmanuel Baptist Church
DESCRIPTION:
URL:https://ralphsextonministries.com/event/emmanuel-baptist-church/
LOCATION:Emmanuel Baptist Church\, Lansing\, NC\, United States
CATEGORIES:Church Service
END:VEVENT
BEGIN:VEVENT
DTSTART;TZID=America/Halifax:20250629T110000
DTEND;TZID=America/Halifax:20250629T190000
DTSTAMP:20260423T145952
CREATED:20250521T131758Z
LAST-MODIFIED:20250521T131758Z
UID:4803-1751194800-1751223600@ralphsextonministries.com
SUMMARY:Central Baptist Church
DESCRIPTION:Pastor Rick Thomason \n11:00 AM and 6:00 PM Services
URL:https://ralphsextonministries.com/event/central-baptist-church/
LOCATION:Central Baptist – Mountain City\, TN\, 2430 S Shady Street\, Mountain City\, TN\, 37683\, United States
CATEGORIES:Church Service
END:VEVENT
BEGIN:VEVENT
DTSTART;VALUE=DATE:20250622
DTEND;VALUE=DATE:20250623
DTSTAMP:20260423T145952
CREATED:20250521T131122Z
LAST-MODIFIED:20250521T131122Z
UID:4786-1750550400-1750636799@ralphsextonministries.com
SUMMARY:Maxey Baptist Church
DESCRIPTION:Morning Service \nPastor Wade White
URL:https://ralphsextonministries.com/event/maxey-baptist-church/
LOCATION:Maxey Baptist Church\, Paris\, TX\, United States
CATEGORIES:Church Service
END:VEVENT
BEGIN:VEVENT
DTSTART;TZID=America/Halifax:20250601T103000
DTEND;TZID=America/Halifax:20250601T120000
DTSTAMP:20260423T145952
CREATED:20250521T130642Z
LAST-MODIFIED:20250521T130642Z
UID:4772-1748773800-1748779200@ralphsextonministries.com
SUMMARY:Newfound Baptist Church
DESCRIPTION:Homecoming Service
URL:https://ralphsextonministries.com/event/newfound-baptist-church/
LOCATION:Newfound Baptist Church\, Leicester\, NC\, United States
CATEGORIES:Church Service
END:VEVENT
BEGIN:VEVENT
DTSTART;TZID=America/Halifax:20250525T110000
DTEND;TZID=America/Halifax:20250525T120000
DTSTAMP:20260423T145952
CREATED:20250521T130446Z
LAST-MODIFIED:20250521T130446Z
UID:4764-1748170800-1748174400@ralphsextonministries.com
SUMMARY:Freedom Baptist Church
DESCRIPTION:Homecoming Service \nPastor Kellum Griffin
URL:https://ralphsextonministries.com/event/freedom-baptist-church/
LOCATION:Freedom Baptist Church\, Asheville\, NC\, United States
CATEGORIES:Church Service
END:VEVENT
BEGIN:VEVENT
DTSTART;TZID=America/Halifax:20240804T103000
DTEND;TZID=America/Halifax:20240804T120000
DTSTAMP:20260423T145952
CREATED:20240802T093357Z
LAST-MODIFIED:20240802T094031Z
UID:4179-1722767400-1722772800@ralphsextonministries.com
SUMMARY:Sunday Service
DESCRIPTION:Join us with Pastor Danny Sykes at Oak Glen Baptist in Gate City\, VA.
URL:https://ralphsextonministries.com/event/sunday-service-18/
LOCATION:Oak Glen Baptist\, 2836 Yuma Road\, Gate City\, VA\, 24251\, United States
CATEGORIES:Church Service
END:VEVENT
BEGIN:VEVENT
DTSTART;TZID=America/Chicago:20240721T180000
DTEND;TZID=America/Chicago:20240721T200000
DTSTAMP:20260423T145952
CREATED:20240710T114835Z
LAST-MODIFIED:20240710T114835Z
UID:4126-1721584800-1721592000@ralphsextonministries.com
SUMMARY:Sunday Evening Service
DESCRIPTION:Join us in Paris\, TX\, at East Paris Baptist with Pastor Danny Moody at 6:00 p.m. (CST).
URL:https://ralphsextonministries.com/event/sunday-evening-service-5/
LOCATION:East Paris Baptist\, 725 N Collegiate Dr\, Paris\, TX\, 75460\, United States
CATEGORIES:Church Service
END:VEVENT
BEGIN:VEVENT
DTSTART;TZID=America/Halifax:20240710T080000
DTEND;TZID=America/Halifax:20240710T170000
DTSTAMP:20260423T145952
CREATED:20240710T121220Z
LAST-MODIFIED:20240710T121220Z
UID:4136-1720598400-1720630800@ralphsextonministries.com
SUMMARY:Sunday Service
DESCRIPTION:We are looking forward to being with Pastor Davy Shelton at Gateway Baptist in Boiling Springs\, SC\, at 11:00 a.m.
URL:https://ralphsextonministries.com/event/sunday-service-17/
LOCATION:NC
CATEGORIES:Church Service
END:VEVENT
BEGIN:VEVENT
DTSTART;VALUE=DATE:20240602
DTEND;VALUE=DATE:20240603
DTSTAMP:20260423T145952
CREATED:20240602T154153Z
LAST-MODIFIED:20240602T154158Z
UID:4050-1717286400-1717372799@ralphsextonministries.com
SUMMARY:Sunday Services
DESCRIPTION:Beulah Baptist with Pastor Dwayne Dillard at 11:00 a.m. and 6:30 p.m.B
URL:https://ralphsextonministries.com/event/sunday-services-5/
LOCATION:Beulah Baptist\, 19126 Monroe Road\, Meadowview\, VA\, 24361\, United States
CATEGORIES:Church Service
END:VEVENT
BEGIN:VEVENT
DTSTART;VALUE=DATE:20240519
DTEND;VALUE=DATE:20240520
DTSTAMP:20260423T145952
CREATED:20240518T172101Z
LAST-MODIFIED:20240518T172426Z
UID:4039-1716076800-1716163199@ralphsextonministries.com
SUMMARY:Sunday Service
DESCRIPTION:Join us at Mt. Pleasant Baptist at Elkview\, WV with Pastor Lee Swor.
URL:https://ralphsextonministries.com/event/prophecy-revival-5/
LOCATION:Mt. Pleasant Baptist\, 58 Mt. Pleasant Drive\, Elkview\, WV
CATEGORIES:Church Service,Special Meeting
END:VEVENT
BEGIN:VEVENT
DTSTART;VALUE=DATE:20240505
DTEND;VALUE=DATE:20240506
DTSTAMP:20260423T145952
CREATED:20240505T145737Z
LAST-MODIFIED:20240505T145737Z
UID:4027-1714867200-1714953599@ralphsextonministries.com
SUMMARY:Sunday Services
DESCRIPTION:Central Baptist Church\nMountain City\, TN \n11:00 a.m. and 6:00 p.m.
URL:https://ralphsextonministries.com/event/sunday-services-4/
LOCATION:Central Baptist – Mountain City\, TN\, 2430 S Shady Street\, Mountain City\, TN\, 37683\, United States
CATEGORIES:Church Service
END:VEVENT
BEGIN:VEVENT
DTSTART;TZID=America/Halifax:20240423T190000
DTEND;TZID=America/Halifax:20240423T210000
DTSTAMP:20260423T145952
CREATED:20240410T140949Z
LAST-MODIFIED:20240410T140949Z
UID:3972-1713898800-1713906000@ralphsextonministries.com
SUMMARY:Spring Revival
DESCRIPTION:Join us in Greensboro at Shining Light Baptist with Pastor Gary Blalock.
URL:https://ralphsextonministries.com/event/spring-revival/
LOCATION:Shining Light Baptist – Greensboro\, NC\, 4530 W Wendover Ave\, Greensboro\, NC\, 27409\, United States
CATEGORIES:Church Service,Revivals
END:VEVENT
BEGIN:VEVENT
DTSTART;TZID=America/Halifax:20240421T170000
DTEND;TZID=America/Halifax:20240421T190000
DTSTAMP:20260423T145952
CREATED:20240421T205402Z
LAST-MODIFIED:20240421T205402Z
UID:3991-1713718800-1713726000@ralphsextonministries.com
SUMMARY:Prophecy Night
DESCRIPTION:Join us at Kerwin Baptist Church in Kernersville\, NC for a night of study in God’s Word!
URL:https://ralphsextonministries.com/event/prophecy-night/
LOCATION:Kerwin Baptist\, 4520 Old Hollow Road\, Kernersville\, NC\, 27284\, United States
CATEGORIES:Church Service,Special Meeting
END:VEVENT
BEGIN:VEVENT
DTSTART;TZID=America/Halifax:20240421T100000
DTEND;TZID=America/Halifax:20240421T120000
DTSTAMP:20260423T145952
CREATED:20240410T140339Z
LAST-MODIFIED:20240421T205009Z
UID:3962-1713693600-1713700800@ralphsextonministries.com
SUMMARY:Sunday Service
DESCRIPTION:We’ll meet in Shelby\, NC at Bethel Baptist with Pastor Timothy Sims at 10:45 and 5:30 for their Spring Revival
URL:https://ralphsextonministries.com/event/sunday-service-16/
LOCATION:Bethel Baptist – Shelby\, NC\, 606 South Dekalb Street\, Shelby\, NC\, 28150\, United States
CATEGORIES:Church Service,Revivals,Special Meeting
END:VEVENT
BEGIN:VEVENT
DTSTART;TZID=America/Halifax:20240409T190000
DTEND;TZID=America/Halifax:20240409T203000
DTSTAMP:20260423T145952
CREATED:20240310T125059Z
LAST-MODIFIED:20240310T125415Z
UID:3939-1712689200-1712694600@ralphsextonministries.com
SUMMARY:Prophecy Revival
DESCRIPTION:Join us at Antioch Baptist Church in Lancaster\, SC with Pastor Trent McLaughlin. Sunday Services are at 7:00 p.m. Monday and Tuesday.
URL:https://ralphsextonministries.com/event/prophecy-revival-4/
LOCATION:Antioch Baptist Church – Lancaster\, SC\, 1734 Antioch Church Road\, SC\, 29720\, United States
CATEGORIES:Prophecy Conference,Revivals,Stand with Israel
END:VEVENT
BEGIN:VEVENT
DTSTART;TZID=America/Halifax:20240408T070000
DTEND;TZID=America/Halifax:20240408T203000
DTSTAMP:20260423T145952
CREATED:20240310T124903Z
LAST-MODIFIED:20240310T124903Z
UID:3936-1712559600-1712608200@ralphsextonministries.com
SUMMARY:Prophecy Revival
DESCRIPTION:Join us at Antioch Baptist Church in Lancaster\, SC with Pastor Trent McLaughlin. Sunday Services are at 7:00 p.m.
URL:https://ralphsextonministries.com/event/prophecy-revival-3/
LOCATION:Antioch Baptist Church – Lancaster\, SC\, 1734 Antioch Church Road\, SC\, 29720\, United States
CATEGORIES:Prophecy Conference,Revivals,Stand with Israel
END:VEVENT
BEGIN:VEVENT
DTSTART;VALUE=DATE:20240407
DTEND;VALUE=DATE:20240408
DTSTAMP:20260423T145952
CREATED:20240310T124500Z
LAST-MODIFIED:20240310T124500Z
UID:3928-1712448000-1712534399@ralphsextonministries.com
SUMMARY:Revival Services
DESCRIPTION:Join us at Antioch Baptist Church in Lancaster\, SC with Pastor Trent McLaughlin. Sunday Services are at 11:00 a.m. and 6:00 p.m.
URL:https://ralphsextonministries.com/event/revival-services-3/
LOCATION:Antioch Baptist Church – Lancaster\, SC\, 1734 Antioch Church Road\, SC\, 29720\, United States
CATEGORIES:Prophecy Conference,Revivals,Stand with Israel
END:VEVENT
BEGIN:VEVENT
DTSTART;TZID=America/Halifax:20240324T100000
DTEND;TZID=America/Halifax:20240324T120000
DTSTAMP:20260423T145952
CREATED:20240310T123338Z
LAST-MODIFIED:20240310T123339Z
UID:3919-1711274400-1711281600@ralphsextonministries.com
SUMMARY:Sunday Service
DESCRIPTION:Join us in Denver\, NC with Pastor Von Ramsey at Victory Baptist Church.
URL:https://ralphsextonministries.com/event/sunday-service-15/
LOCATION:Victory Baptist Church – Denver\, NC\, 6041 King Wilkinson Rd\, Denver\, FL\, 28037\, United States
CATEGORIES:Church Service
END:VEVENT
BEGIN:VEVENT
DTSTART;TZID=America/Halifax:20240317T110000
DTEND;TZID=America/Halifax:20240317T120000
DTSTAMP:20260423T145952
CREATED:20240310T122252Z
LAST-MODIFIED:20240310T122252Z
UID:3909-1710673200-1710676800@ralphsextonministries.com
SUMMARY:Church Service
DESCRIPTION:Join us at Zion Baptist in Elizabethton\, TN with Pastor Alan King. Service begins at 11:00 a.m.
URL:https://ralphsextonministries.com/event/church-service-2/
LOCATION:Zion Baptist Church – Elizabethton\, 1982 Gap Creek Road\, Elizabethton\, TN\, United States
CATEGORIES:Church Service,Revivals
END:VEVENT
BEGIN:VEVENT
DTSTART;TZID=America/Halifax:20240219T190000
DTEND;TZID=America/Halifax:20240219T203000
DTSTAMP:20260423T145952
CREATED:20240218T024621Z
LAST-MODIFIED:20240218T024621Z
UID:3884-1708369200-1708374600@ralphsextonministries.com
SUMMARY:Prophecy Conference
DESCRIPTION:Join us with Pastor Donnie Dalton in Athens\, TN.
URL:https://ralphsextonministries.com/event/prophecy-conference-4/
LOCATION:Mt. Verd Baptist Church\, 251 Co Rd 249\, Athens\, TN\, 37303\, United States
CATEGORIES:Church Service,Prophecy Conference,Stand with Israel
END:VEVENT
BEGIN:VEVENT
DTSTART;VALUE=DATE:20240218
DTEND;VALUE=DATE:20240219
DTSTAMP:20260423T145952
CREATED:20240218T024239Z
LAST-MODIFIED:20240218T024246Z
UID:3880-1708214400-1708300799@ralphsextonministries.com
SUMMARY:Prophecy Conference
DESCRIPTION:Join us at Mt. Verd Baptist with Pastor Donnie Dalton in Athens\, TN.
URL:https://ralphsextonministries.com/event/prophecy-conference-3/
LOCATION:Mt. Verd Baptist Church\, 251 Co Rd 249\, Athens\, TN\, 37303\, United States
CATEGORIES:Church Service,Prophecy Conference
END:VEVENT
BEGIN:VEVENT
DTSTART;TZID=America/Halifax:20240217T080000
DTEND;TZID=America/Halifax:20240217T170000
DTSTAMP:20260423T145952
CREATED:20240218T024900Z
LAST-MODIFIED:20240218T024907Z
UID:3887-1708156800-1708189200@ralphsextonministries.com
SUMMARY:Church Service
DESCRIPTION:Join us at Macedonia Baptist Church with Pastor Zeb Gunter in Alexander\, NC.
URL:https://ralphsextonministries.com/event/church-service/
LOCATION:Macedonia Baptist Church\, 1468 Jenkins Valley Road\, Alexander\, NC\, 28701\, United States
CATEGORIES:Church Service
END:VEVENT
BEGIN:VEVENT
DTSTART;TZID=America/Halifax:20240211T180000
DTEND;TZID=America/Halifax:20240211T200000
DTSTAMP:20260423T145952
CREATED:20240208T035425Z
LAST-MODIFIED:20240208T035425Z
UID:3875-1707674400-1707681600@ralphsextonministries.com
SUMMARY:Sunday Evening Service
DESCRIPTION:Join Dr. Sexton in Jonesboro\, GA with Dr. Joe Arthur at Harvest Baptist Tabernacle.
URL:https://ralphsextonministries.com/event/sunday-evening-service-4/
LOCATION:Harvest Baptist Tabernacle\, 1974 Walt Stephens Road\, Jonesboro\, GA\, United States
CATEGORIES:Church Service
END:VEVENT
BEGIN:VEVENT
DTSTART;TZID=America/Halifax:20240211T110000
DTEND;TZID=America/Halifax:20240211T120000
DTSTAMP:20260423T145952
CREATED:20240208T034753Z
LAST-MODIFIED:20240208T034753Z
UID:3864-1707649200-1707652800@ralphsextonministries.com
SUMMARY:Sunday Service
DESCRIPTION:Join Dr. Sexton at Westside Baptist for Sunday morning service.
URL:https://ralphsextonministries.com/event/sunday-service-14/
LOCATION:Westside Baptist Church\, 762 Smokey Rd\, Newnan\, Georgia\, 30263
CATEGORIES:Church Service
END:VEVENT
BEGIN:VEVENT
DTSTART;TZID=America/Halifax:20240207T080000
DTEND;TZID=America/Halifax:20240207T170000
DTSTAMP:20260423T145952
CREATED:20240208T035048Z
LAST-MODIFIED:20240208T035120Z
UID:3867-1707292800-1707325200@ralphsextonministries.com
SUMMARY:Sunday Evening Service
DESCRIPTION:Join Dr. Sexton with Dr. Joe Arthur in Jonesboro\, GA.
URL:https://ralphsextonministries.com/event/sunday-evening-service-3/
LOCATION:Harvest Baptist Tabernacle\, 1974 Walt Stephens Road\, Jonesboro\, GA\, United States
CATEGORIES:Church Service
END:VEVENT
BEGIN:VEVENT
DTSTART;TZID=America/Halifax:20240128T110000
DTEND;TZID=America/Halifax:20240128T120000
DTSTAMP:20260423T145952
CREATED:20240114T173526Z
LAST-MODIFIED:20240114T173526Z
UID:3832-1706439600-1706443200@ralphsextonministries.com
SUMMARY:Sunday Service
DESCRIPTION:Old Savannah Baptist Church in Sylva\, NC with Pastor Austin Frady.
URL:https://ralphsextonministries.com/event/sunday-service-13/
LOCATION:Old Savannah Baptist\, 138 Sutton Branch Road\, Sylva\, North Carolina\, 28779
CATEGORIES:Church Service
END:VEVENT
BEGIN:VEVENT
DTSTART;VALUE=DATE:20240121
DTEND;VALUE=DATE:20240122
DTSTAMP:20260423T145952
CREATED:20240114T172949Z
LAST-MODIFIED:20240114T172949Z
UID:3826-1705795200-1705881599@ralphsextonministries.com
SUMMARY:Faithful Men's Meeting
DESCRIPTION:Special Sunday service at Temple Baptist in Powell\, TN honoring Dr. Clarence Sexton at 10:45 a.m. and 6:00 p.m.
URL:https://ralphsextonministries.com/event/faithful-mens-meeting-2/
LOCATION:Temple Baptist Church Powell\, TN\, 1700 W Beaver Creek Dr\, Powell\, TN\, 37849
CATEGORIES:Church Service
END:VEVENT
END:VCALENDAR