BEGIN:VCALENDAR
VERSION:2.0
PRODID:-//Ralph Sexton Ministries - ECPv6.15.13//NONSGML v1.0//EN
CALSCALE:GREGORIAN
METHOD:PUBLISH
X-ORIGINAL-URL:https://ralphsextonministries.com
X-WR-CALDESC:Events for Ralph Sexton Ministries
REFRESH-INTERVAL;VALUE=DURATION:PT1H
X-Robots-Tag:noindex
X-PUBLISHED-TTL:PT1H
BEGIN:VTIMEZONE
TZID:America/Halifax
BEGIN:DAYLIGHT
TZOFFSETFROM:-0400
TZOFFSETTO:-0300
TZNAME:ADT
DTSTART:20250309T060000
END:DAYLIGHT
BEGIN:STANDARD
TZOFFSETFROM:-0300
TZOFFSETTO:-0400
TZNAME:AST
DTSTART:20251102T050000
END:STANDARD
BEGIN:DAYLIGHT
TZOFFSETFROM:-0400
TZOFFSETTO:-0300
TZNAME:ADT
DTSTART:20260308T060000
END:DAYLIGHT
BEGIN:STANDARD
TZOFFSETFROM:-0300
TZOFFSETTO:-0400
TZNAME:AST
DTSTART:20261101T050000
END:STANDARD
BEGIN:DAYLIGHT
TZOFFSETFROM:-0400
TZOFFSETTO:-0300
TZNAME:ADT
DTSTART:20270314T060000
END:DAYLIGHT
BEGIN:STANDARD
TZOFFSETFROM:-0300
TZOFFSETTO:-0400
TZNAME:AST
DTSTART:20271107T050000
END:STANDARD
END:VTIMEZONE
BEGIN:VEVENT
DTSTART;TZID=America/Halifax:20260412T103000
DTEND;TZID=America/Halifax:20260412T120000
DTSTAMP:20260423T160352
CREATED:20260408T192252Z
LAST-MODIFIED:20260408T194521Z
UID:5367-1775989800-1775995200@ralphsextonministries.com
SUMMARY:Aurora Baptist Church Aurora\, Texas
DESCRIPTION:Aurora Baptist Church \nService 10:30 AM
URL:https://ralphsextonministries.com/event/aurora-baptist-church-aurora-texas/
LOCATION:Aurora Baptist Church\, 201 Derting Rd.\, Aurora\, TX \, 76078\, United States
CATEGORIES:Church Service
END:VEVENT
BEGIN:VEVENT
DTSTART;TZID=America/Halifax:20260412T170000
DTEND;TZID=America/Halifax:20260412T190000
DTSTAMP:20260423T160352
CREATED:20260408T193805Z
LAST-MODIFIED:20260408T194538Z
UID:5372-1776013200-1776020400@ralphsextonministries.com
SUMMARY:Willow Park Baptist Church Willow Park\, Texas
DESCRIPTION:Willow Park Baptist Church Willow Park\, Texas \nService 5:00 PM
URL:https://ralphsextonministries.com/event/willow-park-baptist-church-willow-park-texas/
LOCATION:Willow Park Baptist Church\, 777 Crown Pointe Blvd.\, Willow Park TX\, TX\, United States
CATEGORIES:Church Service
END:VEVENT
END:VCALENDAR