BEGIN:VCALENDAR
VERSION:2.0
PRODID:-//Ralph Sexton Ministries - ECPv6.15.13//NONSGML v1.0//EN
CALSCALE:GREGORIAN
METHOD:PUBLISH
X-WR-CALNAME:Ralph Sexton Ministries
X-ORIGINAL-URL:https://ralphsextonministries.com
X-WR-CALDESC:Events for Ralph Sexton Ministries
REFRESH-INTERVAL;VALUE=DURATION:PT1H
X-Robots-Tag:noindex
X-PUBLISHED-TTL:PT1H
BEGIN:VTIMEZONE
TZID:America/Halifax
BEGIN:DAYLIGHT
TZOFFSETFROM:-0400
TZOFFSETTO:-0300
TZNAME:ADT
DTSTART:20230312T060000
END:DAYLIGHT
BEGIN:STANDARD
TZOFFSETFROM:-0300
TZOFFSETTO:-0400
TZNAME:AST
DTSTART:20231105T050000
END:STANDARD
BEGIN:DAYLIGHT
TZOFFSETFROM:-0400
TZOFFSETTO:-0300
TZNAME:ADT
DTSTART:20240310T060000
END:DAYLIGHT
BEGIN:STANDARD
TZOFFSETFROM:-0300
TZOFFSETTO:-0400
TZNAME:AST
DTSTART:20241103T050000
END:STANDARD
BEGIN:DAYLIGHT
TZOFFSETFROM:-0400
TZOFFSETTO:-0300
TZNAME:ADT
DTSTART:20250309T060000
END:DAYLIGHT
BEGIN:STANDARD
TZOFFSETFROM:-0300
TZOFFSETTO:-0400
TZNAME:AST
DTSTART:20251102T050000
END:STANDARD
END:VTIMEZONE
BEGIN:VEVENT
DTSTART;TZID=America/Halifax:20240723T190000
DTEND;TZID=America/Halifax:20240723T210000
DTSTAMP:20260424T201827
CREATED:20240710T120103Z
LAST-MODIFIED:20240710T120103Z
UID:4133-1721761200-1721768400@ralphsextonministries.com
SUMMARY:Temple Baptist Jubilee
DESCRIPTION:We will be with Pastor Steve Hurte and our friends at Temple Baptist in Anderson\, SC.
URL:https://ralphsextonministries.com/event/temple-baptist-jubilee/
LOCATION:Temple Baptist Anderson\, SC\, 2905 Standridge Roadh\, Anderson\, SC\, 29625
END:VEVENT
BEGIN:VEVENT
DTSTART;TZID=America/Halifax:20240723T190000
DTEND;TZID=America/Halifax:20240723T210000
DTSTAMP:20260424T201827
CREATED:20240723T222413Z
LAST-MODIFIED:20240723T222413Z
UID:4162-1721761200-1721768400@ralphsextonministries.com
SUMMARY:Jubilee - Temple Baptist Anderson
DESCRIPTION:Join us with our friends in Anderson\, SC\, and Pastor Steve Hurte at Temple Baptist.
URL:https://ralphsextonministries.com/event/jubilee-temple-baptist-anderson/
LOCATION:TN
END:VEVENT
END:VCALENDAR