BEGIN:VCALENDAR
VERSION:2.0
PRODID:-//Ralph Sexton Ministries - ECPv6.15.13//NONSGML v1.0//EN
CALSCALE:GREGORIAN
METHOD:PUBLISH
X-ORIGINAL-URL:https://ralphsextonministries.com
X-WR-CALDESC:Events for Ralph Sexton Ministries
REFRESH-INTERVAL;VALUE=DURATION:PT1H
X-Robots-Tag:noindex
X-PUBLISHED-TTL:PT1H
BEGIN:VTIMEZONE
TZID:UTC
BEGIN:STANDARD
TZOFFSETFROM:+0000
TZOFFSETTO:+0000
TZNAME:UTC
DTSTART:20220101T000000
END:STANDARD
END:VTIMEZONE
BEGIN:VEVENT
DTSTART;TZID=UTC:20230626T184500
DTEND;TZID=UTC:20230626T210000
DTSTAMP:20260425T131231
CREATED:20230610T195450Z
LAST-MODIFIED:20230610T195537Z
UID:3305-1687805100-1687813200@ralphsextonministries.com
SUMMARY:Back to Bethel Camp Meeting
DESCRIPTION:Join us for this special Camp Meting in Paris\, Texas.
URL:https://ralphsextonministries.com/event/back-to-bethel-camp-meeting/
LOCATION:Red River Valley Bible Camp\, 1500 Bible Camp Rd\, TX\, United States
CATEGORIES:Camp Meeting,Conference,Revivals
END:VEVENT
END:VCALENDAR