BEGIN:VCALENDAR
VERSION:2.0
PRODID:-//Ralph Sexton Ministries - ECPv6.15.13//NONSGML v1.0//EN
CALSCALE:GREGORIAN
METHOD:PUBLISH
X-WR-CALNAME:Ralph Sexton Ministries
X-ORIGINAL-URL:https://ralphsextonministries.com
X-WR-CALDESC:Events for Ralph Sexton Ministries
REFRESH-INTERVAL;VALUE=DURATION:PT1H
X-Robots-Tag:noindex
X-PUBLISHED-TTL:PT1H
BEGIN:VTIMEZONE
TZID:UTC
BEGIN:STANDARD
TZOFFSETFROM:+0000
TZOFFSETTO:+0000
TZNAME:UTC
DTSTART:20220101T000000
END:STANDARD
END:VTIMEZONE
BEGIN:VEVENT
DTSTART;VALUE=DATE:20230510
DTEND;VALUE=DATE:20230523
DTSTAMP:20260425T171337
CREATED:20230501T074451Z
LAST-MODIFIED:20230501T074451Z
UID:3262-1683676800-1684799999@ralphsextonministries.com
SUMMARY:Journeys of Paul
DESCRIPTION:Help us pray as we travel where the Apostle Paul preaced. \nMay 11-12 Rome\nMay 13-14  Naples (Pompeii)\nMay 15 At sea\nMay 16 Heraklion\, Crete\nMay 17 Turkey (Ephesus)\nMay 18 Istanbul\, Turkey\nMay 19 Mykonos\, Greece\nMay 20 Pireaus\, Greece (Athens)\nMay 21 Athens\, Greece (Corinth)
URL:https://ralphsextonministries.com/event/journeys-of-paul/
LOCATION:TN
CATEGORIES:International Travel
END:VEVENT
END:VCALENDAR