BEGIN:VCALENDAR
VERSION:2.0
PRODID:-//Ralph Sexton Ministries - ECPv6.15.13//NONSGML v1.0//EN
CALSCALE:GREGORIAN
METHOD:PUBLISH
X-ORIGINAL-URL:https://ralphsextonministries.com
X-WR-CALDESC:Events for Ralph Sexton Ministries
REFRESH-INTERVAL;VALUE=DURATION:PT1H
X-Robots-Tag:noindex
X-PUBLISHED-TTL:PT1H
BEGIN:VTIMEZONE
TZID:UTC
BEGIN:STANDARD
TZOFFSETFROM:+0000
TZOFFSETTO:+0000
TZNAME:UTC
DTSTART:20220101T000000
END:STANDARD
END:VTIMEZONE
BEGIN:VEVENT
DTSTART;TZID=UTC:20230502T190000
DTEND;TZID=UTC:20230502T210000
DTSTAMP:20260425T170341
CREATED:20230501T073629Z
LAST-MODIFIED:20230501T073629Z
UID:3252-1683054000-1683061200@ralphsextonministries.com
SUMMARY:Revival Services
DESCRIPTION:Join Dr. Sexton with Pastor Anthony Dye at Mt. Zion Baptist.
URL:https://ralphsextonministries.com/event/revival-services-2/
LOCATION:Mt. Zion Baptist Church – Hiawassee\, GA\, 6288 GA Hwy 17\, Hiawassee\, Georgia
END:VEVENT
END:VCALENDAR