BEGIN:VCALENDAR
VERSION:2.0
PRODID:-//Ralph Sexton Ministries - ECPv6.15.13//NONSGML v1.0//EN
CALSCALE:GREGORIAN
METHOD:PUBLISH
X-ORIGINAL-URL:https://ralphsextonministries.com
X-WR-CALDESC:Events for Ralph Sexton Ministries
REFRESH-INTERVAL;VALUE=DURATION:PT1H
X-Robots-Tag:noindex
X-PUBLISHED-TTL:PT1H
BEGIN:VTIMEZONE
TZID:UTC
BEGIN:STANDARD
TZOFFSETFROM:+0000
TZOFFSETTO:+0000
TZNAME:UTC
DTSTART:20220101T000000
END:STANDARD
END:VTIMEZONE
BEGIN:VEVENT
DTSTART;VALUE=DATE:20230316
DTEND;VALUE=DATE:20230319
DTSTAMP:20260425T200137
CREATED:20221113T041333Z
LAST-MODIFIED:20230203T022306Z
UID:3033-1678924800-1679183999@ralphsextonministries.com
SUMMARY:Smoky Mountain Gospel Jubilee
DESCRIPTION:Join Dr. Joe Arthur\, Dr. CT Townsend\, and me at the LeConte Center in Pigeon Forge\, TN.  We have expanded the meeting to allow an extra day for preaching and dynamic breakout sessions.  You don’t want to miss this FREE event! \n  \n 
URL:https://ralphsextonministries.com/event/smoky-mountain-gospel-jubilee/
LOCATION:LeConte Center\, 2986 Teaster Lane\, Pigeon Forge\, TN\, 37863\, United States
CATEGORIES:Special Meeting
END:VEVENT
END:VCALENDAR