BEGIN:VCALENDAR
VERSION:2.0
PRODID:-//Ralph Sexton Ministries - ECPv6.15.13//NONSGML v1.0//EN
CALSCALE:GREGORIAN
METHOD:PUBLISH
X-ORIGINAL-URL:https://ralphsextonministries.com
X-WR-CALDESC:Events for Ralph Sexton Ministries
REFRESH-INTERVAL;VALUE=DURATION:PT1H
X-Robots-Tag:noindex
X-PUBLISHED-TTL:PT1H
BEGIN:VTIMEZONE
TZID:UTC
BEGIN:STANDARD
TZOFFSETFROM:+0000
TZOFFSETTO:+0000
TZNAME:UTC
DTSTART:20220101T000000
END:STANDARD
END:VTIMEZONE
BEGIN:VEVENT
DTSTART;VALUE=DATE:20230212
DTEND;VALUE=DATE:20230213
DTSTAMP:20260425T212740
CREATED:20230203T021305Z
LAST-MODIFIED:20230203T021305Z
UID:3117-1676160000-1676246399@ralphsextonministries.com
SUMMARY:Westside Baptist Church
DESCRIPTION:Join us with our friends at Westside Baptist and Pastor Alton T. Midgett\, Jr. for Sunday morning and evening services.
URL:https://ralphsextonministries.com/event/westside-baptist-church/
LOCATION:Westside Baptist Church\, 762 Smokey Rd\, Newnan\, Georgia\, 30263
CATEGORIES:Church Service
END:VEVENT
END:VCALENDAR