BEGIN:VCALENDAR
VERSION:2.0
PRODID:-//Ralph Sexton Ministries - ECPv6.15.13//NONSGML v1.0//EN
CALSCALE:GREGORIAN
METHOD:PUBLISH
X-ORIGINAL-URL:https://ralphsextonministries.com
X-WR-CALDESC:Events for Ralph Sexton Ministries
REFRESH-INTERVAL;VALUE=DURATION:PT1H
X-Robots-Tag:noindex
X-PUBLISHED-TTL:PT1H
BEGIN:VTIMEZONE
TZID:UTC
BEGIN:STANDARD
TZOFFSETFROM:+0000
TZOFFSETTO:+0000
TZNAME:UTC
DTSTART:20210101T000000
END:STANDARD
END:VTIMEZONE
BEGIN:VEVENT
DTSTART;VALUE=DATE:20221130
DTEND;VALUE=DATE:20221210
DTSTAMP:20260426T000356
CREATED:20220902T042534Z
LAST-MODIFIED:20221006T225329Z
UID:2856-1669766400-1670630399@ralphsextonministries.com
SUMMARY:57th Holy Land Tour
DESCRIPTION:
URL:https://ralphsextonministries.com/event/57th-holy-land-tour/
LOCATION:Israel\, Israel
CATEGORIES:International Travel
END:VEVENT
END:VCALENDAR